BEGIN:VCALENDAR
VERSION:2.0
PRODID:-//http://bomi40.eu///NONSGML kigkonsult.se iCalcreator 2.10.15//
METHOD:PUBLISH
BEGIN:VEVENT
UID:20260419T191223CEST-3488ivf2M7@http://bomi40.eu/
DTSTAMP:20260419T171223Z
DESCRIPTION:&nbsp\;\nDie Partner der Initiative erhalten an dieser eintägig
 en Veranstaltung die exklusive Möglichkeit\, ausgewählte Start-ups kennen 
 zu lernen und mehr über ihre Lösungen und Innovationen zu erfahren. Die St
 art-ups werden vorab selektioniert und anhand der Bedürfnisse der Mitglied
 sfirmen ausgewählt. Bei Interesse können die Mitgliedsfirmen gemeinsam mit
  den Jungunternehmen am 'Innovation Day' an einem Praxisbeispiel arbeiten\
 , um Möglichkeiten einer Zusammenarbeit zu prüfen. Die Veranstaltung finde
 t in den Räumlichkeiten der Hilti AG statt.\nDer Programmablauf wird den P
 artnern direkt kommuniziert.\nBitte beachten Sie\, dass diese Veranstaltun
 g nur Partnern der Initative digital-liechtenstein.li vorbehalten ist.\nWe
 itere Informationen zur Veranstaltungen finden Sie hier. http://bomi40.eu/
 de/service-kompetenz/veranstaltungen/ort/event/1432-innovation-day-liechte
 nstein-2019
DTSTART;VALUE=DATE:20190614
LOCATION:HILTI AG (Feldkircher Strasse 100\, 9494 Schaan\, Liechtenstein)
SUMMARY:Innovation Day Liechtenstein 2019
URL:http://bomi40.eu/de/service-kompetenz/veranstaltungen/ort/event/1432-in
 novation-day-liechtenstein-2019
END:VEVENT
END:VCALENDAR
