BEGIN:VCALENDAR
VERSION:2.0
PRODID:-//http://bomi40.eu///NONSGML kigkonsult.se iCalcreator 2.10.15//
METHOD:PUBLISH
BEGIN:VEVENT
UID:20260419T192802CEST-9167TPk2cJ@http://bomi40.eu/
DTSTAMP:20260419T172802Z
DESCRIPTION:Der Digital Summit Liechtenstein ist die neue Digitalkonferenz 
 für Liechtenstein und Region und präsentiert konkrete Erfolgsrezepte und w
 ichtige Impulse für Entscheidungsträger\, Unternehmer\, Digital-Verantwort
 liche sowie Wirtschaftsinteressierte! Die Konferenz bietet allen Besucheri
 nnen und Besuchern neuestes Wissen\, Trends und Innovationen in Sachen dig
 itale Transformation und digitale Zukunftsentwicklungen. Gleichzeitig biet
 et der Digital Summit\, der von den wichtigsten Unternehmen und Institutio
 nen Liechtensteins getragen wird\, hochkarätige Networking-Plattformen sow
 ie Zugang zu den wichtigsten digitalen Entscheidungsträger der Region! Bes
 tandteil des Programms sind sowohl Keynotes als auch sogenannte Workshop-S
 essions – als Teilnehmer haben Sie somit die Möglichkeit\, sich ihr massge
 schneidertes Programm individuell zusammenzustellen.\n\nNeuestes Wissen Di
 e digitale Transformation ist aktuell die grösste Herausforderung für Wirt
 schaft\, Wissenschaft und Politik: Am Digital Summit Liechtenstein werden 
 exklusiv neuestes Wissen und Trends präsentiert\, um diese Herausforderung
  zu meistern.\nBest practice Von der Theorie zur Praxis: An der Konferenz 
 zeigen Unternehmen und Organisationen\, mit welchen Massnahmen und Konzept
 en der digitale Wandel gelingt.\nStrategie Chancen und Gefahren für das ei
 gene Unternehmen werden auf strategischer Ebene diskutiert – profitieren S
 ie von exklusiven Einblicken.\nNetzwerk Der Digital Summit Liechtenstein i
 st der b2b-Kongress der Initiative digital-liechtenstein.li\, welche durch
  die wichtigsten Unternehmen und Wissensinstitutionen Liechtensteins sowie
  Regierung und Fürstenhaus getragen werden – alle Teilnehmer der Konferenz
  profitieren dadurch von einem exklusiven Zugang zu den wichtigsten digita
 len Entscheidungsträger Liechtensteins.Weitere Informationen zur Veranstal
 tung finden Sie hier.\n http://bomi40.eu/de/service-kompetenz/veranstaltun
 gen/ort/event/1435-digital-summit-2019
DTSTART;VALUE=DATE:20190925
LOCATION:Shunk AG\, Vaduz  (Wuhrstrasse 7\, 9490 Vaduz\, Liechtenstein)
SUMMARY:Digital Summit 2019
URL:http://bomi40.eu/de/service-kompetenz/veranstaltungen/ort/event/1435-di
 gital-summit-2019
END:VEVENT
END:VCALENDAR
