BEGIN:VCALENDAR
VERSION:2.0
PRODID:-//http://bomi40.eu///NONSGML kigkonsult.se iCalcreator 2.10.15//
METHOD:PUBLISH
BEGIN:VEVENT
UID:20260419T202811CEST-2401xKtgV9@http://bomi40.eu/
DTSTAMP:20260419T182811Z
DESCRIPTION:KMU 4.0 - die Zukunft beginnt heute!Inmitten des Werkplatzes Zü
 rich-Oerlikon entsteht eine neue zukunftweisende Begegnungs- & Wissensplat
 tform für Wirtschaft\, Wissenschaft und Politik.Die Business Innovation We
 ek nmit Future- Conference\, KMU- Expo und Academy-Programm wird zum Hotsp
 ot für Unternehmer\, Zukunftsgestalter und Startups für Innovation\, Digit
 alisierung und neuste Technologien.Im Fokus stehen Zukunftsdialog\, Best P
 ractice und direkte Handlungsempfehlungen. Aktuellste Wirtschaftsthemen\, 
 Mega-Trends und neuste Technoligien\, disruptive Geschäftsmodelle und neue
  Produkte & Services rund um Innovationkultur\, Management & Arbeit der Zu
 kunft\, Digitalisierung\, Prozesse\, Finanzen\, Produktion\, Data Science\
 , Marketing & Vertrieb und der Arbeitswelt 4.0 werden in mordernen FOrmate
 n in verschiedensten Locations praxisnah für KMU präsentiert. Herausforder
 ungen und Lösungen im Rahmen der Digitalisierung werden von Unternehmern i
 n ihren Best Cases präsentiert.Die Veranstaltung ist vom 1. Oktober bis zu
 m 3. Okober 2019 angesetzt und bietet zudem am 30. September und 4. Oktobe
 r 2019 Themen-Specials an. Weitere Informationen zur Veranstaltung finden 
 Sie hier.  http://bomi40.eu/de/service-kompetenz/veranstaltungen/ort/event
 /1437-kmu-4-0-die-zukunft-beginnt-heute
DTSTART;VALUE=DATE:20191001
LOCATION:Werkplatz Zürich-Oerlikon (Affolternstrasse 52\, 8050 Zürich\, Sch
 weiz)
SUMMARY:KMU 4.0 - die Zukunft beginnt heute!
URL:http://bomi40.eu/de/service-kompetenz/veranstaltungen/ort/event/1437-km
 u-4-0-die-zukunft-beginnt-heute
END:VEVENT
END:VCALENDAR
