BEGIN:VCALENDAR
VERSION:2.0
PRODID:-//http://bomi40.eu///NONSGML kigkonsult.se iCalcreator 2.10.15//
METHOD:PUBLISH
BEGIN:VEVENT
UID:20260419T191002CEST-3601zdTSOP@http://bomi40.eu/
DTSTAMP:20260419T171002Z
DESCRIPTION:\n\n\nScience meets Industry\nDie DIGICON 2019 erwartet heuer w
 ieder&nbsp\;350 namhafte Teilnehmer&nbsp\;aus Wirtschaft\, Wissenschaft un
 d Politik zu visionären Vorträgen und Diskussionen.&nbsp\;Begleitet wird d
 ie Convention durch den&nbsp\;Pitch-Battle um den&nbsp\;4. Münchner Digita
 l Innovation Award&nbsp\;sowie den&nbsp\;Marktplatz der Innovationen\, die
  erfolgreichen StartUps\, KMUs und Großfirmen die Möglichkeit geben\, bahn
 brechende Innovationen zu präsentieren.\nKünstliche Intelligenz durchdring
 t alle Bereiche unserer Gesellschaft. Kognitive Algorithmen des Deep Learn
 ings sind beispielsweise in der Lage\, eine Lungenentzündung genau so gut 
 zu erkennen\, wie ein erfahrener Radiologe. Das MIT prognostiziert bereits
  das Aus des Radiologen. Noch ist es unvorstellbar\, doch ein autonomes Sy
 stem würde sich dann um Diagnose und Behandlungsplan des Patienten kümmern
 .\nBegleiten Sie uns auf dem Weg in diese Zukunft\, wenn sich am&nbsp\;20.
  und 21. November 2019&nbsp\;branchenübergreifend Experten und Entscheider
  im&nbsp\;Palais Lenbach\,&nbsp\;München treffen. Lassen Sie sich inspirie
 ren von etwa 40 Experten aus Wirtschaft und Wissenschaft\, die ihr wertvol
 les Wissen zu Anwendungen der Künstlichen Intelligenz teilen.Weitere Infor
 mationen zur Veranstaltung finden Sie hier.\n\n http://bomi40.eu/de/servic
 e-kompetenz/veranstaltungen/ort/event/1442-artificial-intelligence-mit-kog
 nitiven-technologien-zu-autonomen-systemen
DTSTART;VALUE=DATE:20191120
LOCATION:Palais Lenbach (Ottostraße 6\, 80333 München\, Deutschland)
SUMMARY:Artificial Intelligence – Mit kognitiven Technologien zu autonomen 
 Systemen
URL:http://bomi40.eu/de/service-kompetenz/veranstaltungen/ort/event/1442-ar
 tificial-intelligence-mit-kognitiven-technologien-zu-autonomen-systemen
END:VEVENT
END:VCALENDAR
