BEGIN:VCALENDAR
VERSION:2.0
PRODID:-//http://bomi40.eu///NONSGML kigkonsult.se iCalcreator 2.10.15//
METHOD:PUBLISH
BEGIN:VEVENT
UID:20260419T193410CEST-4661WclsaT@http://bomi40.eu/
DTSTAMP:20260419T173410Z
DESCRIPTION:Das Internet der Dinge (IoT) verschmilzt die digitale Welt mit 
 all ihren spannenden Möglichkeiten und Chancen mit der physischen Welt der
  Dinge. Damit geht einher\, dass produzierendeUnternehmen und Dienstleiste
 r mit digitalen Startups und IT-Giganten konfrontiert werden. Aber\, weil 
 das Internet der Dinge sehr viele unterschiedliche Technologien erfordert\
 , wirdniemand alleine im IoT erfolgreich sein können. Es gilt in Ökosystem
 en zu denken\, neue Geschäftsmodelle zu explorieren und Schranken zu überw
 inden\, um die Chancen zu nutzen.Ihr konkreter NutzenSie lernen...• … vers
 chiedene Optionen kennen\, das IoT zu nutzen\, und sie werden befähigt\, d
 iese Kenntnisse auf Ihr Geschäft zu übertragen.• … den Umgang mit verschie
 denen Werkzeugen zur Entwicklung von IoTGeschäfts- und Ertragsmodellen.• …
  die technischen Ebenen einer IoTLösung kennen.• … die Praxis in einer int
 erdisziplinären Teamaufgabe kennen.Weitere Informationen zur Veranstaltung
 en finden Sie hier. http://bomi40.eu/de/service-kompetenz/veranstaltungen/
 ort/event/1449-das-internet-der-dinge-chancen-fuer-ihr-unternehmen
DTSTART;VALUE=DATE:20190603
LOCATION:EULE Gmünder Wissenswerkstatt (Nepperbergstraße 7\, 73525 Schwäbis
 ch Gmünd\, Deutschland)
SUMMARY:Das Internet der Dinge - Chancen für Ihr Unternehmen
URL:http://bomi40.eu/de/service-kompetenz/veranstaltungen/ort/event/1449-da
 s-internet-der-dinge-chancen-fuer-ihr-unternehmen
END:VEVENT
END:VCALENDAR
