BEGIN:VCALENDAR
VERSION:2.0
PRODID:-//http://bomi40.eu///NONSGML kigkonsult.se iCalcreator 2.10.15//
METHOD:PUBLISH
BEGIN:VEVENT
UID:20260419T203336CEST-330629vlVO@http://bomi40.eu/
DTSTAMP:20260419T183336Z
DESCRIPTION:Die künstlichen Intelligenzen\, die noch vor einigen Jahren meh
 r Science-Fiction als Realität darstellten bildet 2019 als Themenschwerpun
 kt den Auftakt der Veranstaltungsreihe.&nbsp\; Beispiele wie die Sprachste
 uerung in einem Auto oder die Gesichtserkennung auf einem Mobiltelefon\, s
 ind nur ein Auszug an Möglichkeiten der künstlichen Intelligenz in der pri
 vaten Anwendung. Die vielseitigen Einsatzmöglichkeiten von KI- Systemen fi
 nden zunehmend im betrieblichen Kontext Anwendung. So kann beispielsweise 
 die Lager- und Produktionslogistik in der Industrie durch ein selbstlernen
 des ERP-System optimiert werden. Auch der Handel nutzt die Künstliche Inte
 lligenz durch den Einsatz intelligenter CRM-Systeme\, zur Erhöhung der Kun
 denbindung. „Künstliche Intelligenz“ wird daher mittlerweile als Schlüssel
 technologie für den digitalen Wandel und die vernetzte Gesellschaft gesehe
 n\, welche die nächste Welle technologischer Disruption auslösen könnte. G
 erade kleine und mittelständische Unternehmen (KMU) stellen sich häufig di
 e Frage\, was unter einem selbstlernenden Algorithmus verstanden wird und 
 ob der Einsatz von Künstlicher Intelligenz (KI) einen messbaren Mehrwert f
 ür das eigene Unternehmen bietet.&nbsp\;&nbsp\;\nDie ganztägige Veranstalt
 ung ermöglicht durch spannende Impulsreferate einen ersten Einblick in das
  Thema der künstlichen Intelligenz. Anhand praxisnaher Produktbeispiele we
 rden den Teilnehmern unterschiedliche KI-Systeme vorgestellt und Fragen ru
 nd um das Thema beantwortet.&nbsp\; &nbsp\;\nDie Veranstaltung ist kostenl
 os.  Die Teilnehmerzahl ist begrenzt\, Anmeldeschluss ist Donnerstag\, 16.
  Mai 2019.\nWeitere Informationen finden Sie hier.© IBH/ Hannes Thalmann h
 ttp://bomi40.eu/de/service-kompetenz/veranstaltungen/ort/event/1458-what-s
 -nexxt-kuenstliche-intelligenz-in-der-unternehmenspraxis
DTSTART;VALUE=DATE:20190523
LOCATION:IHK Schopfheim (Ernst-Friedrich-Gottschalk-Weg 1\, 79650 Schopfhei
 m\, Deutschland)
SUMMARY:What’s nexxt-Künstliche Intelligenz in der Unternehmenspraxis
URL:http://bomi40.eu/de/service-kompetenz/veranstaltungen/ort/event/1458-wh
 at-s-nexxt-kuenstliche-intelligenz-in-der-unternehmenspraxis
END:VEVENT
END:VCALENDAR
