BEGIN:VCALENDAR
VERSION:2.0
PRODID:-//http://bomi40.eu///NONSGML kigkonsult.se iCalcreator 2.10.15//
METHOD:PUBLISH
BEGIN:VEVENT
UID:20260419T193925CEST-1143cXCKj3@http://bomi40.eu/
DTSTAMP:20260419T173925Z
DESCRIPTION:\nDienstag\, 21. Mai 201910:00 Uhr bis ca. 17:00 Uhr\nHTWG Kons
 tanzAlfred-Wachtel-Straße 8\, 78462 Konstanz\nModeration:\n\nMalte Horstma
 nn\, omm solutions GmbH\nJana Eiser-Mauthner\, VDMA Baden-Württemberg\n\nW
 as sind Künstliche Intelligenz und Maschinelles Lernen? Welche Methoden gi
 bt es und in welchen Bereichen kann ich diese einsetzen?\nIn diesem Worksh
 op lernen Sie das Potenzial von Maschinellem Lernen & Künstlicher Intellig
 enz für Ihr Unternehmen kennen. Künstliche Intelligenz oder KI (engl. AI) 
 bestimmt heute bereits in vielen Bereichen unseren Alltag. Unsere Mobiltel
 efone sind mit Sprach- und Bilderkennungsalgorithmen ausgestattet\, jede W
 ebsuche\, die wir durchführen\, jeder Post in unserer Social Media Timelin
 e wird durch Algorithmen und meist schon selbständig operierende Rechenver
 fahren analysiert.\nDie Künstliche Intelligenz ist auf dem Vormarsch – auc
 h im produzierenden Gewerbe. Selbstlernende Bildverarbeitungssysteme\, int
 elligente Roboter\, eigenständige Produktionsplanungstools sollen einmal a
 lles besser\, schneller und preisgünstiger machen.\nIn unserem Workshop…\n
 ... lernen Sie den aktuellen Stand zur Künstlichen Intelligenz in nachvoll
 ziehbarer Form kennen.\n... erfahren Sie\, wie Sie bestehende Systeme sinn
 voll nutzen oder eigene Produkte mit dieser Technik anreichern können.\n..
 . lernen Sie moderne Algorithmen zu verstehen und mit Software Tools umzus
 etzen.\nAgenda:\n10:00&nbsp\; Ankommen & Kennenlernen\n\nIntro: Was sind K
 I und Maschinelles Lernen\nFallbeispiele aus dem industriellen Umfeld\n\n1
 3:00 – 14:15 Mittagessen\n\nAktuelle Software-Tools aus dem Bereich KI/ML
 \nHands-on: Wie trainiere ich ein neuronales Netz?\n\n16:30 Wrap Up\n17:00
  Ende des Workshops\nTeilnahme:\n\nDie Teilnahme ist kostenlos.\nDie Teiln
 ehmerzahl ist auf 20 Personen begrenzt.Bitte haben Sie Verständnis dafür\,
  dass die Anmeldungen daher in der Reihenfolge des Eingangs erfassen.\nAnm
 eldung bis spätestens 15. Mai 2019.\n\nZur Anmeldung klicken Sie oben\, am
  Seitenanfang auf den 'Teilnehmen'-Button.\n\nORGANISATOREN:\nDie Veransta
 ltung wird von der Allianz Industrie 4.0 Baden-Württemberg in Kooperation 
 mit dem Bodenseezentrum Innovation 4.0 im Rahmen des Projekts BodenseeMitt
 elstand 4.0 durchgeführt.\nBodenseeMittelstand 4.0 wird aus Mitteln des In
 terreg-Programms „Alpenrhein-Bodensee-Hochrhein“\, dessen Mittel vom Europ
 äischen Fonds für Regionale Entwicklung (EFRE) und vom Schweizer Bund zur 
 Verfügung gestellt werden\, gefördert.\n http://bomi40.eu/de/service-kompe
 tenz/veranstaltungen/ort/event/1464-kuenstliche-intelligenz-und-maschinell
 es-lernen-hype-bedrohung-oder-chance-workshop
DTSTART:20190521T080000Z
DTEND:20190521T150000Z
LOCATION:HTWG Konstanz\, Bibliothek\, Thurgausaal (Alfred-Wachtel-Straße\, 
 78462 Konstanz\, Deutschland)
SUMMARY:Künstliche Intelligenz und Maschinelles Lernen – Hype\, Bedrohung o
 der Chance (Workshop)
URL:http://bomi40.eu/de/service-kompetenz/veranstaltungen/ort/event/1464-ku
 enstliche-intelligenz-und-maschinelles-lernen-hype-bedrohung-oder-chance-w
 orkshop
END:VEVENT
END:VCALENDAR
