BEGIN:VCALENDAR
VERSION:2.0
PRODID:-//http://bomi40.eu///NONSGML kigkonsult.se iCalcreator 2.10.15//
METHOD:PUBLISH
BEGIN:VEVENT
UID:20260419T193438CEST-63363JIS2G@http://bomi40.eu/
DTSTAMP:20260419T173438Z
DESCRIPTION:\ndesign – manufacturing - data analytics\n\nDie Konvergenz von
  generativem Design\, additiver Fertigung\, IoT und Data Analytics bietet 
 Anwendern der additiven Fertigung\, Designern und Kreativen neue Möglichke
 iten des 3D Drucks.\nAgenda:\n\n16:30 Uhr: Registrierung /welcome coffee\n
 \n\n17:00 Uhr: Begrüßung Bayern design\, Bayern Innovativ\, ZD.B/BICCnet\n
 \n\n17:15 Uhr: Design N.N.\, Verband Deutscher Industriedesigner\n\n\n17:4
 5 Uhr: Industriedesign Harald Schmid\, Gramm UG\n\n\n18:15 Uhr: Additive F
 ertigung&nbsp\; Lars Langhans\, FIT AG\n\n\n18:45 Uhr: IoT zur Optimierung
  von Produkt-Design&nbsp\;Erich Holzinger\, Woodmark Consulting AG\n\n19:1
 5 Uhr: N.N. Dr. Paul Gromball\, TMG München Global Resourcing GmbH\n\n\n19
 :30 Uhr: Get together\nReferenten auf der Veranstaltung sind Erich Holzing
 er und Lars Langhans.\nWeitere Informationen zu der Veranstaltung finden S
 ie hier.\n\n http://bomi40.eu/de/service-kompetenz/veranstaltungen/ort/eve
 nt/1467-infoabend-additive-fertigung-vom-design-bis-zum-prozess
DTSTART;VALUE=DATE:20190514
LOCATION:gate Garching / ZD.B  (Lichtenbergstraße 8\, 85748 Garching bei Mü
 nchen\, Deutschland)
SUMMARY:Infoabend Additive Fertigung: Vom Design bis zum Prozess
URL:http://bomi40.eu/de/service-kompetenz/veranstaltungen/ort/event/1467-in
 foabend-additive-fertigung-vom-design-bis-zum-prozess
END:VEVENT
END:VCALENDAR
