BEGIN:VCALENDAR
VERSION:2.0
PRODID:-//http://bomi40.eu///NONSGML kigkonsult.se iCalcreator 2.10.15//
METHOD:PUBLISH
BEGIN:VEVENT
UID:20260419T192737CEST-9199rrc4j3@http://bomi40.eu/
DTSTAMP:20260419T172737Z
DESCRIPTION:Im Zeitalter der Digitalisierung steht eine Ressource im Überma
 ss zur Verfügung: Daten. Data Analytics bezeichnet die Disziplin\, aus uns
 trukturierten Daten Information und Wissen und damit letztendlich Mehrwert
  zu generieren. Maschinelles Lernen ist eine Teildisziplin der künstlichen
  Intelligenz\, die Werkzeuge zur Verfügung stellt\, um innovative Datenpro
 dukte zu entwickeln.\nSolche Produkte/Services sind längst in unserem Allt
 ag angekommen: Google\, Netflix\, Facebook & Co. wenden dabei nicht nur Me
 thoden der Datenanalyse an\, sondern setzen sie gezielt in den Kontext von
  Kundenbedürfnissen. Dieser nutzerzentrierte Prozess wird im Rahmen von De
 sign Thinking modelliert und gewährleistet eine erfolgreiche Produktentwic
 klung\, welche Zeit\, Geld und personelle Ressourcen einspart.\nIn der Ind
 ustrie bzw. im Ingenieurswesen bedeuten hingegen Datenprodukte einen Parad
 igmenwechsel und klassische Produktentwicklung kommt dabei an ihre Grenzen
 . Die Kombination mit Design Thinking eröffnet neue Wege\, innovative - fü
 r den Nutzer sinnstiftende - Produkte zu realisieren.\nDieser zweitägige W
 orkshop kombiniert Data Analytics und Service Design und zeigt praxisnah\,
  wie man Daten auf Basis von Kundenbedürfnissen für die Produkt- & Service
 entwicklung verwenden kann. Neben Praxisbeispielen\, Begriffsklärungen und
  theoretischen Grundlagen lernen Sie Design Thinking Methoden hands-on ken
 nen.\n\n\nDozenten:\nProf. Dr. Klaus Frick Gregor Kreuzer\n\nKosten:\nCHF 
 1'200.-\n\nAnmeldeschluss:\n7. Juni 2019\n\n\n\n\nWeitere Informationen zu
 m Workshop finden Sie hier.  http://bomi40.eu/de/service-kompetenz/veranst
 altungen/ort/event/1478-data-service-design
DTSTART:20190612T220000Z
DTEND:20190614T160000Z
LOCATION:NTB Campus Buchs (Werdenbergstrasse 4\, 9471 Buchs\, Schweiz)
SUMMARY:Data Service Design
URL:http://bomi40.eu/de/service-kompetenz/veranstaltungen/ort/event/1478-da
 ta-service-design
END:VEVENT
END:VCALENDAR
