BEGIN:VCALENDAR
VERSION:2.0
PRODID:-//http://bomi40.eu///NONSGML kigkonsult.se iCalcreator 2.10.15//
METHOD:PUBLISH
BEGIN:VEVENT
UID:20260419T192826CEST-9831aMKMzO@http://bomi40.eu/
DTSTAMP:20260419T172826Z
DESCRIPTION:\n\n\nDie zunehmende Digitalisierung bietet Unternehmen eine Vi
 elzahl an Möglichkeiten\, neue Produkte und Dienstleistungen zu entwickeln
 . Dies erfordert nicht nur ein Überdenken der bestehenden\, sondern auch d
 as Aufsetzen neuer Geschäftsmodelle.&nbsp\;Mit welchen Methoden und konkre
 ten Maßnahmen digitale Geschäftsmodelle in KMU angestoßen und umgesetzt we
 rden können\, zeigt dieser eintägige Workshop.\nIn interdisziplinären Team
 s erarbeiten Sie anhand eines fiktiven Falles aus dem Unternehmenskontext 
 eine neue Idee für ein digitales Geschäftsmodell. Dabei erfahren Sie\, wie
  Sie&nbsp\;\n\n\ndie Ausgangssituation des Unternehmens gezielt analysiere
 n\,\ndie Bedarfe Ihrer Kunden und Nutzer herausarbeiten\,\nkundenorientier
 te digitale Ideen entwickeln\,&nbsp\;\nein erstes digitales Unternehmensko
 nzept mittels des Business Model Canvas erstellen und in einen Prototypen 
 überführen und testen\,\nsowie eine Roadmap für die nächsten Schritte erst
 ellen. &nbsp\;\n\n\nFür jede dieser Phasen lernen Sie konkrete Methoden ke
 nnen\, wie Sie die Schritte einfach in Ihrem Unternehmen umsetzen können.&
 nbsp\;\nIm Anschluss an den eintägigen Workshop bietet das DIGITRANS-Proje
 kt den Teilnehmenden ein weiterführendes Angebot an:\n\n\n30-minütige Onli
 ne-Beratung für Ihre eigene Geschäftsmodellidee\nIndividueller eintägiger 
 Workshop für max. zehn KMU im Inkubator am HHZ – Hermann Hollerith Zentrum
 \, Böblingen\, nach Bewerbung mit einer ersten Geschäftsmodellidee (Juli 2
 018 – Juni 2019)\n\n\nAuf der DIGITRANS Plattform finden Sie ergänzendes M
 aterial\, Anleitungen und Formulare\, die Sie bei der Entwicklung eines di
 gitalen Modells in Ihrem Unternehmen einsetzen können.&nbsp\;\nDIGITRANS i
 st ein von der Europäischen Union im Rahmen des Interreg-Donauraumprogramm
 s gefördertes Projekt\, das KMU bei der Entwicklung digitaler Geschäftsmod
 elle unterstützt.\n\n\n\n\n\nWeitere Informationen zur Veranstaltung finde
 n Sie hier.\n\n http://bomi40.eu/de/service-kompetenz/veranstaltungen/ort/
 event/1487-entwicklung-digitaler-geschaeftsmodelle-mit-der-digitrans-metho
 de
DTSTART;VALUE=DATE:20190522
LOCATION:MFG Baden-Württemberg (Breitscheidstraße 4\, 70174 Stuttgart\, Deu
 tschland)
SUMMARY:Entwicklung digitaler Geschäftsmodelle mit der DIGITRANS-Methode
URL:http://bomi40.eu/de/service-kompetenz/veranstaltungen/ort/event/1487-en
 twicklung-digitaler-geschaeftsmodelle-mit-der-digitrans-methode
END:VEVENT
END:VCALENDAR
