BEGIN:VCALENDAR
VERSION:2.0
PRODID:-//http://bomi40.eu///NONSGML kigkonsult.se iCalcreator 2.10.15//
METHOD:PUBLISH
BEGIN:VEVENT
UID:20260419T192801CEST-7025KPUEfX@http://bomi40.eu/
DTSTAMP:20260419T172801Z
DESCRIPTION:Das halbtägige Seminar »Smart Services – Mit Cloud-Lösungen ins
  Internet der Dinge« am Vormittag richtet sich speziell an kleine und mitt
 lere Unternehmen (KMU) aus der Produktion und Logistik. Ihnen wird ein Ein
 stieg ins Thema Smart Services vermittelt und die Brücke zum Internet der 
 Dinge und Cloud Computing geschlagen. Die Teilnehmenden erfahren die wicht
 igsten Eigenschaften von Edge sowie Fog Computing und Ökosystemen und dere
 n Unterschiede. Die Seminarleiter geben Einschätzungen zu Trends und Entwi
 cklungen zum Internet der Dinge und leiten Handlungsempfehlungen ab. Im zw
 eiten Teil werden die wesentlichen Schritte zur Auswahl\, Umsetzung und Ei
 nführung von Smart Services bzw. IoT-Lösungen vorgestellt. Diesem Vorgehen
  werden Praxisbeispiele gegenübergestellt und diskutiert. Abschließend wer
 den Erfolgsfaktoren aufgezeigt\, die interaktiv auf Problemstellungen und 
 Erfahrungen der Teilnehmenden übertragen werden.\nZum Forum am Nachmittag 
 bietet der Ausstellungsbereich die Möglichkeit zum Austausch mit innovativ
 en Unternehmen\, außerdem gibt es im Meetup-Corner Raum zur themenorientie
 rten Diskussion mit Expertinnen und Experten sowie anderen Teilnehmenden. 
 Begleitend zum Vortragsprogramm stellen junge Unternehmen ihre innovativen
  Lösungen in der Start-up-Arena vor.\nDie Themen des Forums im Überblick:
 \n\nChancen und Anwendungen des Internets der Dinge\nHandlungsoptionen für
  den Einsatz im Unternehmen\nTrends wie Künstliche Intelligenz und Blockch
 ain\nAustausch mit Start-ups und Networking im Meetup-Corner\n\nLernziele:
 \nErfolgsfaktoren aus Praxisbeispielen auf eigene Fragestellungen übertrag
 en und Lösungen für intelligente Produkte und Services entwickeln.Weitere 
 Informationen zur Veranstaltung finden Sie hier. http://bomi40.eu/de/servi
 ce-kompetenz/veranstaltungen/ort/event/1488-4-esslinger-forum-das-internet
 -der-dinge
DTSTART;VALUE=DATE:20190703
LOCATION:Hochschule Esslingen (Flandernstraße 101\, 73732 Esslingen am Neck
 ar\, Deutschland)
SUMMARY:4. Esslinger Forum: Das Internet der Dinge 
URL:http://bomi40.eu/de/service-kompetenz/veranstaltungen/ort/event/1488-4-
 esslinger-forum-das-internet-der-dinge
END:VEVENT
END:VCALENDAR
