BEGIN:VCALENDAR
VERSION:2.0
PRODID:-//http://bomi40.eu///NONSGML kigkonsult.se iCalcreator 2.10.15//
METHOD:PUBLISH
BEGIN:VEVENT
UID:20260419T193408CEST-1907pU1XK5@http://bomi40.eu/
DTSTAMP:20260419T173408Z
DESCRIPTION:Am Beispiel der Automobilindustrie sehen wir\, wie Firmen aus d
 em Silicon Valley mit autonomen\, elektrischen und gesharten Autos unsere 
 Industrien\, Städte und Gesellschaften nachhaltig ändern. Deutsche Automob
 ilunternehmen hinken bei diesen Entwicklungen plötzlich hinterher und Unte
 rnehmen wie Waymo\, Tesla\, Apple oder Uber brechen in traditionelle Domän
 en ein und ändern Mobilität. In diesem Vortrag lernen wir was das für uns 
 bedeutet und wie wir uns darauf vorbereiten sollten.\nIn dieser Veranstalt
 ung lernen Sie alles rund um das Thema Nachhaltigkeit und aktuelle Trends 
 in der Automobilindustrie. Als Gast und Referent ist Herr Dr. Mario Herger
  eingeladen. Er forscht nach Technologietrends\, schreibt Bücher dazu und 
 berät Unternehmen zu Themen wie Innovation\, Silicon Valley Mindset\, Fore
 sight Mindset\, Kreativität\, Intrapreneurship. Lange Jahre war er bei SAP
  unter anderem als Entwicklungsleiter und Innovationsstratege beschäftigt.
 \nNun hilft er Unternehmen\, wie sie den innovativen und entrepreneurische
 n Spirit aus dem Silicon Valley auf ihre Organisationen übertragen können\
 , um innovativer zu werden und Trends frühzeitig erkennen und mitzubestimm
 en.Eines seiner Bücher ist 'Der letzte Führerscheinneuling...ist bereits g
 eboren'\, wovon 10 Examplare an der Veranstaltung verlost werden.\nWeitere
  Informationen und die Möglichkeit zur Anmeldung finden Sie auf der Websit
 e der Veranstalter ... http://bomi40.eu/de/service-kompetenz/veranstaltung
 en/ort/event/1494-innovationsmotor-testfeld-bodenseeinnovativ-fachvortrag
DTSTART;VALUE=DATE:20190625
LOCATION:Kulturcaserne Friedrichshafen gGmbH (Fallenbrunnen 17\, 88045 Frie
 drichshafen\, Deutschland)
SUMMARY:“Innovationsmotor Testfeld” #bodenseeinnovativ Fachvortrag
URL:http://bomi40.eu/de/service-kompetenz/veranstaltungen/ort/event/1494-in
 novationsmotor-testfeld-bodenseeinnovativ-fachvortrag
END:VEVENT
END:VCALENDAR
