BEGIN:VCALENDAR
VERSION:2.0
PRODID:-//http://bomi40.eu///NONSGML kigkonsult.se iCalcreator 2.10.15//
METHOD:PUBLISH
BEGIN:VEVENT
UID:20260419T202427CEST-9786kz7HaS@http://bomi40.eu/
DTSTAMP:20260419T182427Z
DESCRIPTION:Das Vorarlberger Unternehmen Alphagate beschäftigt sich schon s
 eit längerem mit der Frage „Wo der Mensch im digitalen Wandel der Industri
 e bleibt?“ und weiß nach über 20 Jahren Erfahrung im Bereich Benutzerfreun
 dlichkeit im Maschinen- und Anlagenbau\, dass hinter jeder wichtigen Entsc
 heidung ein Mensch steht. Daher hat es sich der Bedienkonzeptehersteller z
 ur Aufgabe gemacht\, den Menschen in den Fokus seiner Entwicklungen zu rüc
 ken. \nDas Ziel: Maschinen\, Anlagen und Geräte so benutzerfreundlich wie 
 möglich zu entwickeln. Beim Digitalen Perspektiven Stammtisch am 21. Mai i
 n Rankweil dreht sich alles um den anwenderorientierten Ansatz PHORB. Dies
 er wurde eigens von Alphagate zur Umsetzung von Bedienlösungen komplexer A
 nwendungen im Maschinen- und Medizingerätebau konzipiert.Was genau in und 
 hinter PHORB steckt\, welche Umsetzungsmöglichkeiten es gibt und wo der Me
 nsch im digitalen Wandel der Industrie bleibt\, erklärt Alphagate allen In
 teressierten am 21. Mai ab 18:30 Uhr.\nWeitere Informationen zu der Verans
 taltung finden Sie auf der Website der Veranstalter... http://bomi40.eu/de
 /service-kompetenz/veranstaltungen/ort/event/1499-digitaler-stammtisch-mit
 -alphagate
DTSTART;VALUE=DATE:20190521
LOCATION:Alphagate Rankweil (Alemannenstraße 49\, 6830 Rankweil\, Österreic
 h)
SUMMARY:Digitaler Stammtisch mit Alphagate
URL:http://bomi40.eu/de/service-kompetenz/veranstaltungen/ort/event/1499-di
 gitaler-stammtisch-mit-alphagate
END:VEVENT
END:VCALENDAR
