BEGIN:VCALENDAR
VERSION:2.0
PRODID:-//http://bomi40.eu///NONSGML kigkonsult.se iCalcreator 2.10.15//
METHOD:PUBLISH
BEGIN:VEVENT
UID:20260419T203718CEST-6139N3RI1r@http://bomi40.eu/
DTSTAMP:20260419T183718Z
DESCRIPTION:Welche Kompetenzen sind in der und für die digitale Arbeitswelt
  erforderlich? Welche Skills sind für die Berufe der Zukunft notwendig? Wi
 e können wir uns alle am besten für die zukünftige Arbeitswelt vorbereiten
 ? Ein Thema\, das gegenwärtig häufig und in vielen unterschiedlichen Zusam
 menhängen diskutiert wird und mit dem sich gerade in jüngster Zeit eine Vi
 elzahl von Studien auseinandersetzt. Im Vordergrund steht dabei meistens d
 ie Frage\, welche Kompetenzen erforderlich sind – seien es fachlich-inhalt
 liche\, soziale\, methodische oder auch persönliche (Meta-)Kompetenzen. Do
 ch – es geht nicht nur um das WAS bzw. die Art der Kompetenzen. Es geht au
 ch um die Frage\, WIE der Prozess der Kompetenzentwicklung konkret geförde
 rt werden kann und vor allem welche Kontextfaktoren diesen positiv oder ne
 gativ beeinflussen und in welcher Weise dies geschieht.\nDer MÜNCHNER KREI
 S lädt in Kooperation mit dem Zentrum Digitalisierung.Bayern (ZD.B) dazu e
 in\, über diese und weitere Fragen im Kontext der Arbeitswelt 4.0 beim Wor
 kshop-Day 'Kompetenzentwicklung für die digitale Arbeitswelt – Wege und Hi
 ndernisse' intensiv zu diskutieren.\nIn Workshops sollen Kontextfaktoren (
 z.B. Organisations- und Führungsstrukturen\, Kultur\, Individuum/Motivatio
 n\, betriebswirtschaftliche Steuerung/Metriken) identifiziert werden\, die
  die Entwicklung zukünftig relevanter Kompetenzen beeinflussen. Die Teilne
 hmenden erarbeiten\, welche Rahmenbedingungen fördernd oder hemmend wirken
  und welche Gestaltungs- und Handlungsoptionen identifiziert werden können
 .\n__________________________________________________\nTeilnehmergebühr: 
 \nVollzahler: 50\,- €\nErmäßigte Tarife: setzen Sie sich in diesem Falle m
 it office@muenchner-kreis.de in Verbindung.\nWissenschaftler: 32\,00 €\nIn
  der Teilnahmegebühr ist das Catering inkludiert.Weitere Informationen zur
  Veranstaltung und die Möglichkeit zur Anmeldung finden Sie auf der Websit
 e der Veranstalter... http://bomi40.eu/de/service-kompetenz/veranstaltunge
 n/ort/event/1534-kompetenzentwicklung-fuer-die-digitale-arbeitswelt-wege-u
 nd-hindernisse
DTSTART;VALUE=DATE:20190624
LOCATION:BayWa AG (Arabellastraße 4\, 81925 München\, Deutschland)
SUMMARY:Kompetenzentwicklung für die digitale Arbeitswelt – Wege und Hinder
 nisse
URL:http://bomi40.eu/de/service-kompetenz/veranstaltungen/ort/event/1534-ko
 mpetenzentwicklung-fuer-die-digitale-arbeitswelt-wege-und-hindernisse
END:VEVENT
END:VCALENDAR
