BEGIN:VCALENDAR
VERSION:2.0
PRODID:-//http://bomi40.eu///NONSGML kigkonsult.se iCalcreator 2.10.15//
METHOD:PUBLISH
BEGIN:VEVENT
UID:20260419T194729CEST-4723LdbdXt@http://bomi40.eu/
DTSTAMP:20260419T174729Z
DESCRIPTION:HackZurich ist Europas grösster Hackathon und hat sich innert f
 ünf Jahren als eine der bedeutendsten Veranstaltungen der europäischen Tec
 hnologie- und Innovationsszene positioniert. 2018 gingen in nur zwei Woche
 n über 5000 Bewerbungen aus 55 Ländern ein. Die 550 grössten Talente wurde
 n ausgewählt und dazu eingeladen\, innert 40 Stunden innovative Prototypen
  in Teams von zwei bis vier Personen zu entwickeln. Internationale Unterne
 hmen stellen dafür Hardware und Frameworks bereit – eine ausgezeichnete Ge
 legenheit\, den kreativen Einsatz neuester Technologien zu üben und Projek
 te mit internationalen Tech Talents zu lancieren. Die Teilnahme ist kosten
 los. Reisekosten werden rückerstattet. Alle Rechte der entwickelten Produk
 te bleiben bei den Personen\, die diese entwickelt haben.Weitere Informati
 onen zur Veranstaltung und die Möglichkeit zur Anmeldung finden Sie auf de
 r Website der Veranstalter... http://bomi40.eu/de/service-kompetenz/verans
 taltungen/ort/event/1535-hackzurich-2019
DTSTART;VALUE=DATE:20190927
LOCATION: ()
SUMMARY:HackZurich 2019 
URL:http://bomi40.eu/de/service-kompetenz/veranstaltungen/ort/event/1535-ha
 ckzurich-2019
END:VEVENT
END:VCALENDAR
