BEGIN:VCALENDAR
VERSION:2.0
PRODID:-//http://bomi40.eu///NONSGML kigkonsult.se iCalcreator 2.10.15//
METHOD:PUBLISH
BEGIN:VEVENT
UID:20260419T191436CEST-5873sLKl7B@http://bomi40.eu/
DTSTAMP:20260419T171436Z
DESCRIPTION:Der Investor Summit Liechtenstein bringt am 31. Oktober 2019 im
  SAL in Schaan erneut ausgewählte Startups mit innovativen Geschäftsideen&
 nbsp\;auf die Bühne. Der Summit vernetzt bereits zum achten Mal Startups u
 nd KMU auf Kapitalsuche mit Investoren und Entscheidungsträgern. Die Start
 ups können ihr Geschäftsmodell vor hochkarätigen Investoren&nbsp\;sowie za
 hlreichen&nbsp\;Business Angels&nbsp\;präsentieren und die Teilnehmerinnen
  und Teilnehmer erhalten exklusive Einblicke in innovative Geschäftsideen.
 Das Programm umfasst Keynotes\, Talks\, Workshops und attraktive Networkin
 g-Möglichkeiten. Zu den Speakern gehören unter anderem:- Stefan Heitmann\,
  Gründer von Moneypark und Business Angel- Nicolas Bürer\, SECA Business A
 ngel of the year 2018- Daniel Risch\, Wirtschaftsminister des Fürstentums 
 Liechtenstein- Simon Enderli\, stv.&nbsp\;Geschäftsführer Swiss Entreprene
 urs Foundation- Ralph Mogicato\, Angel Investor und SICTIC-Vizepräsident- 
 Tatjana de Keroos\, Head of Innovation bei Ricolab- Sunnie Groneveld\, Unt
 ernehmerin und ModeratorinInteressierte Startups können sich ab sofort unt
 er diesem Link&nbsp\;bewerben. Eine Jury des Liechtensteiner Investitionsm
 arkts (LIM)&nbsp\;trifft eine Vorauswahl und lädt geeignete Startups zu ei
 nem Presecreening ein.Zum Abschluss können sich Gründer\,&nbsp\;Investoren
  und Entscheidungsträger am&nbsp\;Networking-Apéro&nbsp\;austauschen und a
 n einer&nbsp\;Tischmesse&nbsp\;die Startups hautnah kennenlernen. Der Inve
 stor Summit wird von der Regierung des Fürstentums Liechtenstein getragen 
 und vom Verein Liechtensteiner Investitionsmarkt sowie zahlreichen Partner
 n unterstützt.\nWeitere Informationen zur Veranstaltung und die Möglichkei
 t zur Anmeldung finden Sie auf der Website der Veranstalter... http://bomi
 40.eu/de/service-kompetenz/veranstaltungen/ort/event/1536-investor-summit-
 liechtenstein-2019
DTSTART;VALUE=DATE:20191031
LOCATION:Sal am Lindenplatz (Landstrasse 19\, 9494 Schaan\, Liechtenstein)
SUMMARY:Investor Summit Liechtenstein 2019
URL:http://bomi40.eu/de/service-kompetenz/veranstaltungen/ort/event/1536-in
 vestor-summit-liechtenstein-2019
END:VEVENT
END:VCALENDAR
