BEGIN:VCALENDAR
VERSION:2.0
PRODID:-//http://bomi40.eu///NONSGML kigkonsult.se iCalcreator 2.10.15//
METHOD:PUBLISH
BEGIN:VEVENT
UID:20260419T194327CEST-3463P6Lwcx@http://bomi40.eu/
DTSTAMP:20260419T174327Z
DESCRIPTION:Digitale Transformation bedeutet Veränderung. Aber was genau ka
 nn\, soll oder muss sich eigentlich verändern? Die IT\, das Geschäftsmodel
 l\, interne Strukturen oder gar die gesamte Unternehmenskultur? Und wie ge
 nau kann die Transformation hin zu einer innovativen\, agilen Organisation
  gelingen? Technologien ermöglichen heute Dinge\, die vor wenigen Jahren n
 och undenkbar gewesen wären. Während manche Unternehmen diese neuen Möglic
 hkeiten bereits für sich nutzen\, fehlen anderen noch die Erfahrung und de
 r richtige Zugang zu Themen wie Digital Leadership\, Agilität oder Technol
 ogiemanagement. Das wiederum erschwert den erfolgreichen Wandel hin zu ein
 er innovativen Organisationskultur.\n\nDoch dieser ist wichtig\, denn digi
 tale Transformation bedeutet in erster Linie einen Kulturwandel\, der grun
 dlegende Veränderungen mit sich bringt. Wie aber kann sich eine Unternehme
 nskultur wandeln\, damit Transformationsprozesse und Innovationen entstehe
 n? Wie begegne ich Veränderungsblockaden und gewinne Menschen für den Weg 
 der Transformation? Wie fördere ich als Führungskraft gezielt die Innovati
 onskultur meines Unternehmens und welche Veränderungen bedeutet dies für m
 einen Führungsstil?\nAn all diesen Fragen setzt die Kooperationsveranstalt
 ung der Wirtschaftsförderung Bodenseekreis und dem digitalen Kompetenznetz
 werk cyberLAGO „Wie gelingt der Wandel zu einer innovativen Organisation?“
  der bodenseeweiten Veranstaltungsreihe „Digitalisierung als Chance“ an. A
 nhand von Beispielen wird gezeigt\, wie eine innovative Organisation entst
 ehen und damit der Grundstein für eine erfolgreiche digitale Transformatio
 n gelegt werden kann.\nDie Experten\nMartin Seeger\, Geschäftsführer der B
 echtle GmbH Bodensee (Friedrichshafen/Radolfzell/Villinigen-Schwenningen\,
  D)\, zeigt die Erfolgsfaktoren von veränderungsfähigen Unternehmen und ve
 ranschaulicht den Wandel der Bechtle GmbH Bodensee zu einer agilen Organis
 ation mit allen damit verbundenen Höhen und Tiefen.\nPatrick Berhalter\, C
 EO der Berhalter AG (Widnau\, CH)\, beleuchtet die Bedeutung und Veränderu
 ng von Führung\, zeigt\, wie Technologiemanagement heute funktioniert und 
 wie die Berhalter AG den Weg der digitalen Transformation meistert.\nAblau
 f\n17 Uhr Empfang der Gäste\n17:30 Uhr Begrüßung durch WFB und cyberLAGO\n
 17:40 Uhr Vortrag Martin Seeger (Bechtle GmbH Bodensee)\n18:25 Uhr Halbfin
 ale Bodensee Pioneer Award mit Live-Voting\n18:45 Uhr Vortrag Patrick Berh
 alter (Berhalter AG)\nAnschließend: Diskussion und Networking\nDie Veranst
 altung ist kostenlos\, eine Anmeldung ist erforderlich.\nWeitere Informati
 onen zu der Veranstaltung und Anmeldung finden Sie auf der Website der Ver
 anstaler...\n„Digitalisierung als Chance – wie gelingt der Wandel zu einer
  innovativen Organisation?“ ist eine gemeinsame Veranstaltung der Wirtscha
 ftsförderung Bodenseekreis und von cyberLAGO\, dem digitalen Kompetenznetz
 werk am Bodensee. Die Veranstaltung gehört zu einer Reihe von Events des P
 rojekts „BodenseeMittelstand 4.0“\, bei denen es darum geht\, die KMU rund
  um den Bodensee bei der digitalen Transformation zu begleiten und gleichz
 eitig mit den digitalen Akteuren der Vierländerregion zu vernetzen. Das Pr
 ojekt „ABH051 BodenseeMittelstand 4.0“ wird aus Mitteln des Programms Inte
 rreg V „Alpenrhein-Bodensee-Hochrhein“\, dessen Mittel vom Europäischen Fo
 nds für regionale Entwicklung (EFRE) und vom Schweizer Bund zur Verfügung 
 gestellt werden\, gefördert.\n http://bomi40.eu/de/service-kompetenz/veran
 staltungen/ort/event/1542-digitalisierung-als-chance-wie-gelingt-der-wande
 l-zu-einer-innovativen-organisation
DTSTART;VALUE=DATE:20190716
LOCATION:Bechtle GmbH Bodensee  (Albert-Maier-Straße 21\, 88045 Friedrichsh
 afen\, Deutschland)
SUMMARY:Digitalisierung als Chance – wie gelingt der Wandel zu einer innova
 tiven Organisation?
URL:http://bomi40.eu/de/service-kompetenz/veranstaltungen/ort/event/1542-di
 gitalisierung-als-chance-wie-gelingt-der-wandel-zu-einer-innovativen-organ
 isation
END:VEVENT
END:VCALENDAR
