BEGIN:VCALENDAR
VERSION:2.0
PRODID:-//http://bomi40.eu///NONSGML kigkonsult.se iCalcreator 2.10.15//
METHOD:PUBLISH
BEGIN:VEVENT
UID:20260419T193439CEST-0108RgMi3a@http://bomi40.eu/
DTSTAMP:20260419T173439Z
DESCRIPTION:\n\n\nDer Swiss Smart Government Day ist eine Veranstaltung&nbs
 p\;einzig und allein für die smarte Verwaltung. Die Tagung findet am 24. S
 eptember 2019 im Campus E der Universität St.Gallen (Hotel Congress Einste
 in) statt und bringt Entscheidungsträger aus der Verwaltung\, Politik\, Wi
 rtschaft und Wissenschaft zusammen. Themenschwerpunkte wie agile Verwaltun
 g\, innovative Finanzierungsmodelle\, bürgerzentrierte Dienstleistungen\, 
 Cybersicherheit\, oder Vertrauen in die künstliche Intelligenz treffen den
  Nerv der Zeit. Inspirierende Key Notes und Inputreferate sowie verschiede
 ne interaktive Formate erlauben ein tiefes Eintauchen in diverse Themenber
 eiche. Seien Sie unter anderem gespannt auf eine live Cyber-Attacke sowie 
 eine Werkstatt zur konkreten Neugestaltung von Verwaltungsprozessen. Der N
 etworking Lunch\, der Apéro sowie die zahlreichen Informationsstände biete
 n Gelegenheit zum Austauchen und Vernetzen.Weitere Informationen zur Veran
 staltung und die Möglichkeit zur Anmeldung finden Sie auf der Website der 
 Veranstalter...\n\n\n http://bomi40.eu/de/service-kompetenz/veranstaltunge
 n/ort/event/1548-swiss-smart-government-day
DTSTART;VALUE=DATE:20190924
LOCATION:Campus E der Universität St.Gallen (Dufourstrasse 50\, 9000 St. Ga
 llen\, Schweiz)
SUMMARY:Swiss Smart Government Day
URL:http://bomi40.eu/de/service-kompetenz/veranstaltungen/ort/event/1548-sw
 iss-smart-government-day
END:VEVENT
END:VCALENDAR
