BEGIN:VCALENDAR
VERSION:2.0
PRODID:-//http://bomi40.eu///NONSGML kigkonsult.se iCalcreator 2.10.15//
METHOD:PUBLISH
BEGIN:VEVENT
UID:20260419T193238CEST-2333ugOggp@http://bomi40.eu/
DTSTAMP:20260419T173238Z
DESCRIPTION:Nachdem der Hype rundum das Thema Legal Tech allmählich wieder 
 abklingt\, stellt sich die Frage\, welche Technologien und Geschäftsmodell
 e marktfähig sind und welche konkreten Veränderungen Juristen in und außer
 halb von Unternehmen tatsächlich in ihre tägliche Arbeit integrieren.Fest 
 steht\, dass Juristen sich der Digitalisierung nicht entziehen können. Doc
 h was konnte sich tatsächlich von den Vorhersagen\, ob und wie IT-Lösungen
  juristische Dienstleistungen und die damit zusammenhängenden Prozesse ers
 etzen oder zumindest vereinfachen\, bewahrheiten?Die Konstanz Legal Tech D
 ays 2019 knüpfen an den außerordentlich erfolgreichen Legal Tech Day 2018 
 an. Der Schwerpunkt der Veranstaltung gestaltet sich dabei rundum die Frag
 e der Praxisfähigkeit von Legal Tech Anwendungen.\nTag 1 der Legal Tech Da
 ys dient dabei dazu\, die Teilnehmer durch wissenschaftliche Vorträge in d
 ie Welt von Legal Tech einzuführen\, indem Praktiker\, Informatiker und Re
 chtswissenschaftler zu Wort kommen. Gründer und innovative studentische Te
 ams haben an Tag 1 dabei die Möglichkeit\, ihre Ideen für Legal Tech-Anwen
 dungen im Rahmen eines Pitch vor einer Fachjury und den Teilnehmern vorzut
 ragen. In einer Knock-out Runde treten im Finale die beiden besten Teams a
 us der Vorrunde an. Die Siegerehrung erfolgt auf der Legal Tech Night spon
 sored by Gleiss Lutz\, die den ersten Veranstaltungstag abrunden wird und 
 nochmals einem regen und interaktiven Austausch zwischen allen Beteiligten
  dienen wird.\nAn Tag 2 der Legal Tech Days dürfen die Teilnehmer im Rahme
 n von Workshops selbst aktiv werden\, um die Schnittstelle zwischen Recht 
 und Informatik selbst erfahren.Die an der Veranstaltung teilnehmenden Stud
 ierenden erhalten auf diese Weise einen Einblick in das Themengebiet und w
 erden in die Lage versetzt\, die Bedeutung von Legal Tech für sich selbst 
 und die eigene Berufsplanung einzuschätzen. Die Vertreter aus Industrie un
 d der Beratungsbranche erhalten Gelegenheit zum Austausch mit Lehrenden un
 d Studierenden. Die HTWG Konstanz bringt ihre interdisziplinäre\, anwendun
 gsbezogene Stärke\, die Universität Konstanz ihre Spitzenforschung ein.\nW
 eitere Informationen zur Veranstaltung und die Möglichkeit zur Anmeldung f
 inden Sie auf der Website der Veranstalter... http://bomi40.eu/de/service-
 kompetenz/veranstaltungen/ort/event/1569-konstanz-legal-tech-days
DTSTART:20191018T080000Z
DTEND:20191019T143000Z
LOCATION: ()
SUMMARY:Konstanz Legal Tech Days
URL:http://bomi40.eu/de/service-kompetenz/veranstaltungen/ort/event/1569-ko
 nstanz-legal-tech-days
END:VEVENT
END:VCALENDAR
