BEGIN:VCALENDAR
VERSION:2.0
PRODID:-//http://bomi40.eu///NONSGML kigkonsult.se iCalcreator 2.10.15//
METHOD:PUBLISH
BEGIN:VEVENT
UID:20260419T202658CEST-4411iU3DJ7@http://bomi40.eu/
DTSTAMP:20260419T182658Z
DESCRIPTION:Im Zeitalter der Digitalisierung gewinnt die Frage an Bedeutung
 \, welche künftigen Schlüsselkompetenzen in der Arbeitswelt von morgen zen
 tral sein werden. Die Diskussion dazu wurde unter dem Stichwort «Future Sk
 ills» am WEF 2016 lanciert. Auch wenn einzelne Fähigkeiten immer wieder mi
 t verschiedenen Labels bezeichnet werden\, so taucht doch in jedem der Lis
 ten «Vernetztes Denken» auf.\nOffensichtlich gehört die Kompetenz\, das gr
 osse Ganze zu sehen\, Zusammenhänge zu erkennen und tragfähige Lösungen zu
  entwickeln\, zu den künftigen zentralen Fähigkeiten im Umgang mit der dig
 italen Welt. Die Leaders von Morgen sollten demnach über Fähigkeiten wie d
 as «Lösen komplexer Probleme»\, «Systems Thinking»\, «Kritisches Denken» u
 nd «Urteils- und Entscheidungsfähigkeit» verfügen. So breit die Zustimmung
  dafür auch ist\, es findet sich nirgends eine Anleitung\, wie die Kompete
 nz zum vernetzten Denken entwickelt und gefördert werden kann.\nIn den wir
 tschaftlichen Bachelor- und Master-Ausbildungen an der FHS wird die Fähigk
 eit zum vernetzten Denken von der ersten Woche an systematisch und wiederh
 olend geübt und an konkreten unternehmerischen Problemstellungen angewandt
 . Wir erachten die Kompetenz zum systemischen und damit ganzheitlichen Pro
 blemlösen als ausgesprochen relevante Schlüsselkompetenz der Gegenwart und
  Zukunft. Dies kommt bereits in unserer Mission zum Ausdruck\, wo es im Cl
 aim heisst:\nCompetency for Solutions. Thinking in Networks.\nDas Referat 
 geht darauf ein\,\n\nwas unter vernetztem Denken verstanden wird\,\nwie di
 es an der FHS entwickelt wird\,\nund welche systemischen Makromuster helfe
 n\, die Herausforderungen des 21. Jahrhunderts zu durchdingen.\n\nReferent
 \nProf. Dr. Roland Waibel\,&nbsp\;Institutsleiter\, Institut für Unternehm
 ensführung IFU-FHS\, FHS St.Gallen\nWeitere Informationen sowie die Möglic
 hkeit zur Anmeldung finden Sie auf folgender Website... http://bomi40.eu/d
 e/service-kompetenz/veranstaltungen/ort/event/1576-digitalisierung-vernetz
 tes-denken-als-future-skill
DTSTART;VALUE=DATE:20190917
LOCATION:Fachhochschulzentrum St. Gallen (FHS St. Gallen\, Rosenbergstrasse
  59\, 9000 St. Gallen\, Schweiz)
SUMMARY:Digitalisierung: Vernetztes Denken als 'Future Skill“
URL:http://bomi40.eu/de/service-kompetenz/veranstaltungen/ort/event/1576-di
 gitalisierung-vernetztes-denken-als-future-skill
END:VEVENT
END:VCALENDAR
