BEGIN:VCALENDAR
VERSION:2.0
PRODID:-//http://bomi40.eu///NONSGML kigkonsult.se iCalcreator 2.10.15//
METHOD:PUBLISH
BEGIN:VEVENT
UID:20260419T203531CEST-8252uo104w@http://bomi40.eu/
DTSTAMP:20260419T183531Z
DESCRIPTION:\nSchon immer hat der Mensch danach gestrebt\, sich und seine U
 mwelt zu verbessern. Sein Streben hat dazu beigetragen\, lebensweltliche D
 efizite auszugleichen\, abzubauen oder gar zu beheben. Infolgedessen hat s
 ich im Laufe der Zeit der Möglichkeitsraum menschlichen Handelns ins schie
 r Unermessliche ausgeweitet. Doch ob aus der Möglichkeit des Könnens zwang
 släufig immer ein Gebot des Sollens folgt\, ist umstritten – gerade auch i
 n der Zeit der digitalen Transformation.\nArmin Grunwald spricht am 5. Dez
 ember 2019\, 18 Uhr zum Thema «Digitalisierung: Zwischen Technikgläubigkei
 t und apokalyptischen Befürchtungen».Weitere Informationen und die Möglich
 keit zur Anmeldung finden Sie auf der Website der Veranstalter...\n http:/
 /bomi40.eu/de/service-kompetenz/veranstaltungen/ort/event/1578-digitalisie
 rung-zwischen-technikglaeubigkeit-und-apokalyptischen-befuerchtungen
DTSTART:20190724T112600Z
DTEND:20190724T132600Z
LOCATION:Kantonsratssaal St. Gallen (Klosterhof 3\, 9000 St. Gallen\, Schwe
 iz)
SUMMARY:«Digitalisierung: Zwischen Technikgläubigkeit und apokalyptischen B
 efürchtungen»
URL:http://bomi40.eu/de/service-kompetenz/veranstaltungen/ort/event/1578-di
 gitalisierung-zwischen-technikglaeubigkeit-und-apokalyptischen-befuerchtun
 gen
END:VEVENT
END:VCALENDAR
