BEGIN:VCALENDAR
VERSION:2.0
PRODID:-//http://bomi40.eu///NONSGML kigkonsult.se iCalcreator 2.10.15//
METHOD:PUBLISH
BEGIN:VEVENT
UID:20260419T193108CEST-34258LZRWp@http://bomi40.eu/
DTSTAMP:20260419T173108Z
DESCRIPTION:\nAm 25. Oktober 2019 verwandelt sich das Haus der IHK-Bezirksk
 ammer Ludwigsburg in ein „InnovationsCamp Arbeit 4.0“ für Entscheiderinnen
  und Entscheider von Morgen. Die Veranstaltung bringt junge Menschen der G
 enerationen Y und Z zusammen\, um sich über die Konsequenzen des digitalen
  Wandels in der Arbeitswelt auszutauschen.\nDiese Generationen werden star
 k durch die veränderten Rahmenbedingungen beeinflusst und haben jetzt noch
  die Chance\, ihre Zukunft nach ihren Vorstellungen zu gestalten. Dafür ve
 ranstaltet die IHK-Bezirkskammer Ludwigsburg ein BarCamp\, das optimalen R
 aum für das Einbringen von verschiedenste Themen und für eine intensive pe
 rsönliche Vernetzung bietet.\nVom gemeinsamen Frühstück bis zum Schluss si
 nd die Wirtschaftsjunioren Ludwigsburg und Oliver Gassner als Organisator 
 und Moderator dabei.\nWeitere Informationen zu der Veranstaltung finden Si
 e auf der Webseite der Veranstalter... Dort gibt es die Möglichkeit zur An
 meldung und mehr über das Thema Arbeiten 4.0 zu erfahren.\n&nbsp\; http://
 bomi40.eu/de/service-kompetenz/veranstaltungen/ort/event/1587-innovationsc
 amp-arbeit-4-0
DTSTART;VALUE=DATE:20191025
LOCATION:Bezirkskammer Ludwigsburg (Kurfürstenstraße 4\, 71636 Ludwigsburg\
 , Deutschland)
SUMMARY:InnovationsCamp Arbeit 4.0
URL:http://bomi40.eu/de/service-kompetenz/veranstaltungen/ort/event/1587-in
 novationscamp-arbeit-4-0
END:VEVENT
END:VCALENDAR
