BEGIN:VCALENDAR
VERSION:2.0
PRODID:-//http://bomi40.eu///NONSGML kigkonsult.se iCalcreator 2.10.15//
METHOD:PUBLISH
BEGIN:VEVENT
UID:20260419T194454CEST-7691uumdxR@http://bomi40.eu/
DTSTAMP:20260419T174454Z
DESCRIPTION:Um Termintreue zu garantieren\, Produktionskosten zu senken\, P
 roduktivität zu steigern\, Lagerbestände zu verringern und Durchlaufzeiten
  zu optimieren\, bedarf es neben Know-how im Maschinen- und Anlagenbau vor
  allem richtiger und gebündelter Daten. Die Herausforderung besteht darin\
 , die relevanten Kennzahlen zu identifizieren und aus verschiedenen System
 en zusammenzuführen. Durch den Einsatz von Business Intelligence-Systemen 
 verringert sich der Aufwand dieser Datenanalyse deutlich.\nRelevante Kennz
 ahlen aus allen Abteilungen lassen sich automatisch übersichtlich darstell
 en und man bekommt einen übergreifenden Echtzeit-Überblick über den gesamt
 en Produktionsprozess vom Einkauf über die Fertigung und Montage bis hin z
 ur Lieferung an den Kunden.&nbsp\;\n\nAm 15. Oktober 2019 werden die Veran
 stalter die Frage in den Mittelpunkt stellen\, welche Bedeutung Datenquali
 tät und Data Governance für BI-Anwendungen haben\, Beispiele für vernetzte
  Datenwelten aufzeigen und einen Blick in die Zukunft werfen\, inwiefern B
 I und Künstliche Intelligenz miteinander verknüpft werden können. Zudem ha
 ben Sie die Möglichkeit\, im Rahmen von Workshops tiefer in die Themen Dat
 enintegration\, Produktionscontrolling\, Datenmanagement und -analyse sowi
 e Künstliche Intelligenz einzusteigen.\nZur Diskussion dieser Themen und d
 en Workshops werden Sie herzlich eingeladen.\nEine Anmeldung ist bis zum 9
 . Oktober notwendig.\nWeitere Informationen zu der Veranstaltung finden Si
 e auf der Webseite der Veranstalter...\n&nbsp\; http://bomi40.eu/de/servic
 e-kompetenz/veranstaltungen/ort/event/1591-business-intelligence-fuer-indu
 strie-4-0-und-internet-of-things
DTSTART;VALUE=DATE:20191015
LOCATION:Festhalle Denkendorf  (Mühlhaldenstraße 111\, 73770 Denkendorf\, D
 eutschland)
SUMMARY:Business Intelligence für Industrie 4.0 und Internet of Things
URL:http://bomi40.eu/de/service-kompetenz/veranstaltungen/ort/event/1591-bu
 siness-intelligence-fuer-industrie-4-0-und-internet-of-things
END:VEVENT
END:VCALENDAR
