BEGIN:VCALENDAR
VERSION:2.0
PRODID:-//http://bomi40.eu///NONSGML kigkonsult.se iCalcreator 2.10.15//
METHOD:PUBLISH
BEGIN:VEVENT
UID:20260419T220611CEST-5059E4xT5u@http://bomi40.eu/
DTSTAMP:20260419T200611Z
DESCRIPTION:Der japanische Ausdruck Heijunka bedeutet übersetzt eine Nivell
 ierung und Glättung in Bezug auf das Produktionsvolumen und den Produktion
 smix. Heijunka ist ein Konzept zur Beherrschung der schwankenden Nachfrage
  nach einzelnen Produkten und Produktvarianten\, die auf den gleichen Anla
 gen hergestellt werden. Die Nivellierung und Glättung der Produktion ist e
 ntscheidend für die Vermeidung von Mura und infolgedessen&nbsp\; auch für 
 die Beseitigung von Muri und Muda. Eine möglichst gleichmäßige Produktion 
 ist eine Voraussetzung für konstant hohe Qualität\, die Standardisierung v
 on Abläufen und die Implementierung eines kontinuierlichen Verbesserungspr
 ozesses. Heijunka ist ein zentraler Bestandteil des Toyota-Produktionssyst
 ems (TPS) und damit auch der Lean Production. Insbesondere angesichts der 
 zunehmenden Variantenvielfalt wird dieses noch relativ ungeläufige Prinzip
  zukünftig von entscheidender Bedeutung sein.\nUm den Lernerfolg zu garant
 ieren\, setzt sich der Workshop aus theoretischen Lernphasen und aus prakt
 ischen Umsetzungsphasen zusammen. Hierdurch kann das neu erlernte Wissen v
 on den Teilnehmern bereits während des Seminars praktisch angewandt und un
 ter produktionsnahen Bedingungen (Montagebetrieb mit Elektrogetriebemotore
 n)umgesetzt werden.\nDie Teilnehmer sind nach dem Workshop in der Lage\, e
 inen mehrstufigen Prozess methodisch zu analysieren\, Verbesserungspotenzi
 ale zu erkennen und durch den Einsatz von Heijunka signifikante Leistungsv
 erbesserung des Gesamtsystems zu erzielen.\nInsbesondere werden folgende T
 echniken und Handlungsprinzipien vermittelt:• Nivellierung und Glättung• H
 eijunka• Every Part Every Interval (EPE I)\n• Rüstzeitoptimierung (SMED)• 
 Rüstzeitoptimierende Reihenfolgebildung• Nachschubgesteuertes Pull-System•
  Sequenzielles Pull-System• PITCH\nDer Workshop richtet sich an Fachkräfte
  aus der Produktion\, Meister\, Produktionsverantwortliche und Fertigungsp
 laner.\nDie Referenten dieser Veranstaltung sind\n- Prof. Dr.-Ing. Ingo Fr
 icker\, Professor für Produktionsmanagement an der HTWG Konstanz \n- Prof.
  Dr.-Ing. Carsten Schleyer\,Professor für Wertschöpfungssysteme an der HTW
 G Konstanz\n&nbsp\;\n\n\n\n\nTermine\n&nbsp\;\n\nDo.\, 12. Oktober 2017&nb
 sp\; 9:00-17:00 UhrFr.\, 13. Oktober 2017\, 9:00-17:00 Uhr\n\n\nTeilnehmer
 :\nMaximal 12 Personen\n\n\nKosten:\n850\,00 Euro zzgl. MwSt. inkl. Tagung
 spauschale (Verpflegung tagsüber\, Mittagsessen (kein Abendessen)\, Schulu
 ngsunterlagen)\n\n\nZertifikat:\nDie Teilnehmer erhalten ein Zertifikat de
 r HTWG Konstanz mit Ausweis der ECTS.\n\n\nKontakt zum Veranstalter:&nbsp\
 ;&nbsp\;&nbsp\;&nbsp\;&nbsp\;&nbsp\;&nbsp\;\nModellfabrik Bodensee Academy
 Hochschule Konstanz Technik\,Wirtschaft und Gestaltung (HTWG)Alfred-Wachte
 l-Straße 8D-78462 KonstanzTelefon: +49 (0)7531 206 9037www.modellfabrikbod
 ensee.eumodellfabrikbodensee@htwg-konstanz.de\n\n\n\n&nbsp\;\nWeiterführen
 de Workshopempfehlung:• Von Lean Production zu Industrie 4.0• Cardboard En
 gineering und Low Cost Automation\n&nbsp\;\n&nbsp\; http://bomi40.eu/de/se
 rvice-kompetenz/veranstaltungen/ort/event/160-workshop-heijunka-methodisch
 -leistungsverbesserungen-erzielen
DTSTART:20171012T070000Z
DTEND:20171013T150000Z
LOCATION: ()
SUMMARY:Workshop: Heijunka - Methodisch Leistungsverbesserungen erzielen
URL:http://bomi40.eu/de/service-kompetenz/veranstaltungen/ort/event/160-wor
 kshop-heijunka-methodisch-leistungsverbesserungen-erzielen
END:VEVENT
END:VCALENDAR
