BEGIN:VCALENDAR
VERSION:2.0
PRODID:-//http://bomi40.eu///NONSGML kigkonsult.se iCalcreator 2.10.15//
METHOD:PUBLISH
BEGIN:VEVENT
UID:20260419T202621CEST-9294djwJVc@http://bomi40.eu/
DTSTAMP:20260419T182621Z
DESCRIPTION:Veranstaltung des Projekts 'Digitales Innovationsnetzwerk Handw
 erk 2025'\nDer Workshop zum Thema Digitales Aufmaß und 3D Modellierung fin
 det im Rahmen der&nbsp\;Veranstaltungsreihe zum Projekt&nbsp\;Digitales In
 novationsnetzwerk Handwerk 2025 statt. Das Projekt Digitales Innovationsne
 tzwerk Handwerk 2025 &nbsp\;hat das Ziel Handwerker und Handwerksbetriebe 
 für die Digitalisierung zu sensibilisieren und Einsatzmöglichkeiten aufzuz
 eigen.\nAktuell sind die Auftragsbücher im Handwerk gut gefüllt. Fachkräft
 emangel und steigender Wettbewerbsdruck durch eine Marktkonsolidierung von
  kleinen\, oft wenig innovativen Unternehmen\, werden das Handwerk in den 
 kommenden Jahren jedoch grundlegend verändern. In regelmäßigen Workshops s
 ollen Handwerksbetrieben digitale Technologien vorgestellt und die Auswirk
 ungen auf die eigene Wertschöpfung aufgezeigt werden.\nWeitere Information
 en zu der Veranstaltung und Anmeldung finden Sie auf der Webseite der Vera
 nstalter...  http://bomi40.eu/de/service-kompetenz/veranstaltungen/ort/eve
 nt/1607-workshop-digitales-aufmass-und-3d-modellierung
DTSTART;VALUE=DATE:20190912
LOCATION:Kreishandwerkerschaft Region Karlsruhe Haus der Innungen (Rüppurre
 r Str. 13\, 76137 Karlsruhe\, Deutschland)
SUMMARY:Workshop: Digitales Aufmaß und 3D Modellierung
URL:http://bomi40.eu/de/service-kompetenz/veranstaltungen/ort/event/1607-wo
 rkshop-digitales-aufmass-und-3d-modellierung
END:VEVENT
END:VCALENDAR
