BEGIN:VCALENDAR
VERSION:2.0
PRODID:-//http://bomi40.eu///NONSGML kigkonsult.se iCalcreator 2.10.15//
METHOD:PUBLISH
BEGIN:VEVENT
UID:20260419T203410CEST-4319NhAMCW@http://bomi40.eu/
DTSTAMP:20260419T183410Z
DESCRIPTION:Das kostenfreie Webinar zu EU-Fördermöglichkeiten im Piloten de
 s Europäischen Innovationsrats (EIC - European Innovation Council) von Hor
 izont 2020 richtet sich an die kleinen und mittelständigen Unternehmen und
  informiert über die sich ergänzenden Förderinstrumente 'Pathfinder' und '
 Accelerator' sowie 'Fast Track to Innovation' (FTI).  Der EIC-Pilot bietet
  damit Unternehmen eine nahtlose Unterstützung von Forschungs- und Innovat
 ionsvorhaben bis zur Markteinführung. Neben der Vorstellung von Förderkond
 itionen\, Informationen zur Antragstellung und Unterstützungsmaßnahmen wir
 d den Webinar-Teilnehmern viel Raum für Fragen geboten.  Im Anschluss an d
 as Webinar besteht die Möglichkeit\, eine individuelle Erstberatung mit Ex
 pertinnen und Experten der Steinbeis 2i GmbH zu vereinbaren\, um Fördermög
 lichkeiten für eigene Innovationsvorhaben zu besprechen.  Zielgruppe: Klei
 ne und mittelständige Unternehmen  Programm/Inhalte:  Horizont 2020: das l
 aufende EU-Förderrahmenprogramm Der Europäische Innovationsrat - Förderung
 en für KMU im EIC-Pilot Die Förderinstrumente im EIC-Pilot - Pathfinder\, 
 Accelerator\, Fast Track to Innovation\nDas Webinar beginnt am 18. Septemb
 er 2019 um 14:00 Uhr und dauert ca. 90 Minuten. Veranstalter ist die Stein
 beis 2i GmbH.\nWeitere Informationen zu der Veranstaltung und Anmeldung fi
 nden Sie auf der Webseite der Veranstalter... http://bomi40.eu/de/service-
 kompetenz/veranstaltungen/ort/event/1610-webinar-eu-foerdermoeglichkeiten-
 im-piloten-des-europaeischen-innovationsrats-von-horizont-2020
DTSTART;VALUE=DATE:20190918
LOCATION:Webinar (Steinhäuserstraße 12\, 76135 Karlsruhe\, Deutschland)
SUMMARY:Webinar: EU-Fördermöglichkeiten im Piloten des Europäischen Innovat
 ionsrats von Horizont 2020
URL:http://bomi40.eu/de/service-kompetenz/veranstaltungen/ort/event/1610-we
 binar-eu-foerdermoeglichkeiten-im-piloten-des-europaeischen-innovationsrat
 s-von-horizont-2020
END:VEVENT
END:VCALENDAR
