BEGIN:VCALENDAR
VERSION:2.0
PRODID:-//http://bomi40.eu///NONSGML kigkonsult.se iCalcreator 2.10.15//
METHOD:PUBLISH
BEGIN:VEVENT
UID:20260419T191412CEST-2246kw0sf6@http://bomi40.eu/
DTSTAMP:20260419T171412Z
DESCRIPTION:In der achten Sitzung widmet sich der Industriearbeitskreis Vir
 tuelle Techniken im Bauwesen dem Schwerpunkt „Interaktive Bearbeitung mass
 iver Datenmengen“.\nFür diesen IAK wird das Institut für Visualisierung un
 d Interaktive Systeme (VIS) der Universität Stuttgart als Gastgeber dabei 
 sein und über eines seiner zahlreichen Projekte berichten.\nUwe Wössner wi
 rd in seiner Präsentation auf die Integration von BIM\, Simulation und Vir
 tual Reality eingehen und erklären\, wie damit die Zusammenarbeit in lokal
 en oder verteilten Teammeetings aussehen kann.\nKemal Gider stellt in sein
 em Vortrag die Möglichkeiten einer schnellen und effizienten Konvertierung
  von CAD- und gescannten 3D-Modellen vor\, die auf leistungsschwachen Graf
 ikgeräten wie MS HoloLens oder Smartphones ausgeführt werden können.\nÜber
  diese und weitere Inhalte werden Sie informiert und mit Ihnen diskutiert.
 \nProgramm\n\n14:00 Begrüßung\n14:10 VR-Anwendungen am VISUS | N.N.\, Inst
 itut für Visualisierung und Interaktive Systeme (VIS) der Universität Stut
 tgart\n14:40 BIM/VR - Interactive coupling of BIM systems and collaborativ
 e immersive visualization systems | Uwe Wössner\, HLRS\n15:10 Kaffeepause
 \n15:40 Laserscanning in Architektur & Bauwesen (angefragt) | N.N.\, FARO
 \n16:10 Konvertierung von 3D-Inhalten für Augmented Reality | Kemal Gider\
 , CDM Tech\n16:40 Laborbesuch VISUS & Get-Together\n\nDer 8. IAK im Bauwes
 en findet am 10.10.2019 von 14:00 bis 17:00 Uhr statt im: Institut für Vis
 ualisierung und Interaktive Systeme (VIS)\, Universitätsstraße 38\, 70569 
 Stuttgart.\nAnmeldung Kostenlos anmelden können Sie sich hier.\nWeitere In
 formationen zu der Veranstaltung erhalten Sie auf der Webseite der Veranst
 alter ... http://bomi40.eu/de/service-kompetenz/veranstaltungen/ort/event/
 1625-8-iak-vr-im-bauwesen-interaktive-bearbeitung-massiver-datenmengen
DTSTART;VALUE=DATE:20191010
LOCATION:Institut für Visualisierung und Interaktive Systeme (VIS) (Univers
 itätsstraße 38\, 70569 Stuttgart\, Deutschland)
SUMMARY:8. IAK VR im Bauwesen - Interaktive Bearbeitung massiver Datenmenge
 n
URL:http://bomi40.eu/de/service-kompetenz/veranstaltungen/ort/event/1625-8-
 iak-vr-im-bauwesen-interaktive-bearbeitung-massiver-datenmengen
END:VEVENT
END:VCALENDAR
