BEGIN:VCALENDAR
VERSION:2.0
PRODID:-//http://bomi40.eu///NONSGML kigkonsult.se iCalcreator 2.10.15//
METHOD:PUBLISH
BEGIN:VEVENT
UID:20260419T193112CEST-8003ML9D6v@http://bomi40.eu/
DTSTAMP:20260419T173112Z
DESCRIPTION:Durch die voranschreitende Digitalisierung mit neuen technische
 n Möglichkeiten\, Geschäftsmodellen und Prozessen ergeben sich Änderungen 
 bei grundlegenden rechtlichen Regelungen.Im Einführungsvortrag wird es um 
 den Wandel von Geschäftsmodellen gehen\, um die Beleuchtung unterschiedlic
 her Aspekte datenbasierter Modelle sowie um die datenschutzrechtlichen Bes
 onderheiten. Im Anschluss finden parallel drei Workshops statt. Im ersten 
 Workshop geht es unter anderem um Rechtsprozesse und Vertragsmanagement im
  digitalen Umfeld\, im zweiten Workshop um die Digitalisierung im Arbeitsr
 echt und im dritten Workshop um die Herausforderungen für den Datenschutz 
 im Rahmen der Digitalisierung. Zielgruppe \n\nGeschäftsführer\, Prokuriste
 n\, Gesellschafter\, Inhaber\n\nDie Veranstaltung richtet sich an Geschäft
 sführer\, Unternehmensjuristen\, Datenschutzbeauftragte und Personalverant
 wortliche.\nDie Veranstaltung 'Digitalisierung und Recht' findet am Donner
 stag 26.09.2019 von 09:00 Uhr bis 13:00 Uhr in der IHK Bodensee-Oberschwab
 en statt. Eine Anmeldung zu der Veranstaltung ist erforderlich\, es fallen
  keine Kosten an.\nWeitere Informationen zu der Veranstaltung finden Sie a
 uf der Webseite der Veranstalter...  http://bomi40.eu/de/service-kompetenz
 /veranstaltungen/ort/event/1629-digitalisierung-und-recht
DTSTART;VALUE=DATE:20190926
LOCATION:IHK Bodensee-Oberschwaben (Lindenstraße 2\, 88250 Weingarten\, Deu
 tschland)
SUMMARY:Digitalisierung und Recht
URL:http://bomi40.eu/de/service-kompetenz/veranstaltungen/ort/event/1629-di
 gitalisierung-und-recht
END:VEVENT
END:VCALENDAR
