BEGIN:VCALENDAR
VERSION:2.0
PRODID:-//http://bomi40.eu///NONSGML kigkonsult.se iCalcreator 2.10.15//
METHOD:PUBLISH
BEGIN:VEVENT
UID:20260419T192736CEST-5956wagkkr@http://bomi40.eu/
DTSTAMP:20260419T172736Z
DESCRIPTION:Wie Sie AI für Ihr Unternehmen nutzen können\nKI ist einer der 
 wichtigsten Technologietrends für die kommenden Jahre. Die Implementierung
  neuer Geschäftsmodelle auf Basis von KI wird eine der notwendigen Kompete
 nzen für Unternehmen sein\, um wettbewerbsfähig zu bleiben.Mit der Teilnah
 me an diesem Bootcamp werden Ihnen die neuesten KI-Einblicke und das notwe
 ndige Wissen darüber vermittelt\, wie Technologie neue Geschäftsmodelle er
 möglicht. Sie erhalten die Möglichkeit\, an unternehmensspezifischen Herau
 sforderungen zu arbeiten\, die Sie mit Ihrer KI-Lösung angehen und Ihre Ge
 schäftsidee vor Investoren und Unternehmen zu präsentieren.\nMachen Sie mi
 t!\n\nEerhalten Sie die neusten Erkenntnisse über die KI\nPitch vor Invest
 oren\nAm Matchmaking teilnehmen\nNeue Geschäftsmöglichkeiten entdecken\n\n
 Vorteile für SIe:\n\nCorporate-Venture-Partnerschaften\nInitiieren von Pro
 jekten zusammen mit Unternehmen und Schließen neuer langfristiger strategi
 scher Partnerschaften für die Zukunft.\nNetzwerk mit globalen Marktführern
  der KI\nTreffen mit relevanten internationalen Führungskräften des KI-Sek
 tors und Aufbau eines persönlichen Netzwerks zur Erweiterung der Produktpa
 lette.\nMaßgeschneiderte Mentorschaft\nErhalten Sie Unterstützung durch ex
 zellente Mentoren und Spezialisten und erhalten Sie Beratung und Feedback 
 zu Ihrem Geschäftsmodell.\nZugang für Investoren\nErhalten Sie direkten Zu
 gang zu potenziellen Investoren und Business Angels\, die in Ihre Geschäft
 sidee investieren könnten.\nMarketing-Plattform\nProfitieren Sie von unser
 en Publikationen und unserem Social Media Marketing\, um die Kommerzialisi
 erung Ihres Unternehmens zu steigern.\n\nBestätigte Mentoren\n\nAlexander 
 Fred Ojala\, Forschungsleiter des Datenlabors in UC BERKELEY\nMarc König\,
  BUSINESS DEVELOPMENT BWCON (Geschäftsentwicklung)\nStefan Heuser\, Vizepr
 äsident Innovationsmusterung\n\n&nbsp\;Die Veranstaltung ist kostenpflicht
 ig.\nWeitere Informationen zu der Veranstaltung finden Sie auf der Webseit
 e der Veranstalter... http://bomi40.eu/de/service-kompetenz/veranstaltunge
 n/ort/event/1640-3-day-bootcamp-on-artificial-intelligence
DTSTART;VALUE=DATE:20190919
LOCATION:Stuttgart bwcon (Seyfferstraße 34\, 70197 Stuttgart\, Deutschland)
SUMMARY:3-Day Bootcamp on Artificial Intelligence
URL:http://bomi40.eu/de/service-kompetenz/veranstaltungen/ort/event/1640-3-
 day-bootcamp-on-artificial-intelligence
END:VEVENT
END:VCALENDAR
