BEGIN:VCALENDAR
VERSION:2.0
PRODID:-//http://bomi40.eu///NONSGML kigkonsult.se iCalcreator 2.10.15//
METHOD:PUBLISH
BEGIN:VEVENT
UID:20260419T193409CEST-7909oaIgZ0@http://bomi40.eu/
DTSTAMP:20260419T173409Z
DESCRIPTION:Wie sieht der Arbeitsplatz der Zukunft aus und welche Konsequen
 zen ergeben sich hieraus für Unternehmen und Mitarbeiter*innen? Wie können
  Firmen\, Arbeitnehmer*innen\, Politik und zivilgesellschaftliche Gruppen 
 diese Veränderungsprozesse gemeinsam gestalten? In der Arbeitswelt 4.0 ver
 ändern sich die Qualifikationsanforderungen ständig und immer schneller. W
 elche Kenntnisse und Fähigkeiten werden in Zukunft benötigt? Und wie könne
 n gerade kleine und mittlere Unternehmen ihre Beschäftigten bei der Weiter
 bildung unterstützen?&nbsp\;Um den digitalen Wandel in der Arbeitswelt akt
 iv zu gestalten\, hat das Bayerische Staatsministerium für Familie\, Arbei
 t und Soziales (StMAS) die Themenplattform Arbeitswelt 4.0 am Zentrum Digi
 talisierung.Bayern (ZD.B) eingerichtet. Ihre Aufgabe ist es\, Akteure aus 
 Wissenschaft und Wirtschaft zu vernetzen und den Transfer zwischen Forschu
 ng und Praxis zu fördern\, um Handlungsansätze und Bedarfe gerade für klei
 ne und mittlere Unternehmen aufzuzeigen.&nbsp\;Zum offiziellen Start der T
 hemenplattform Arbeitswelt 4.0 wird zur ersten Netzwerkkonferenz eingelade
 n.\nIm Rahmen dieser Veranstaltung werden die Sprecherin und die beiden Sp
 recher der Themenplattform aus den Bereichen Wissenschaft\, Wirtschaft sow
 ie Arbeitnehmervertretung offiziell ernannt.\nProgramm:\n10:00 - 10:20 Uhr
 : Begrüßung & Vorstellung der Themenplattform Arbeitswelt 4.0\n10:20 - 10:
 50 Uhr: Keynote Speech (N.N.)\n10:50 - 13:00 Uhr Workshops\n13:00 – 14:00 
 Uhr: Mittagspause\n14:00 – 14:20 Uhr: Grußwort der Bayerischen Staatsminis
 terin für Familie\, Arbeit und Soziales Kerstin Schreyer MdL\n14:20 – 14:3
 5 Uhr: Übergabe der Urkunden an die Sprecherin und die beiden Sprecher der
  Themenplattform\n14:35 – 15:00 Uhr: Präsentation der Ergebnisse der Works
 hops durch die Teilnehmenden\n15:00 – 15:50 Uhr: Paneldiskussion mit der S
 precherin und den beiden Sprechern der Themenplattform\n15:50 – 16:00 Uhr:
  Verabschiedung\nIm Anschluss: Get-together und Networking\nFür die Verans
 taltung ist eine Anmeldung erforderlich.\nWeitere Informationen zu der Ver
 ansaltung finden Sie auf der Webseite der Veranstalter... http://bomi40.eu
 /de/service-kompetenz/veranstaltungen/ort/event/1659-erste-netzwerkkonfere
 nz-der-themenplattform-arbeitswelt-4-0
DTSTART;VALUE=DATE:20191126
LOCATION:ATLAS Design Offices (Werksgelände) (Rosenheimer Str. 143\, 81671 
 München\, Deutschland)
SUMMARY:Erste Netzwerkkonferenz der Themenplattform Arbeitswelt 4.0 
URL:http://bomi40.eu/de/service-kompetenz/veranstaltungen/ort/event/1659-er
 ste-netzwerkkonferenz-der-themenplattform-arbeitswelt-4-0
END:VEVENT
END:VCALENDAR
