BEGIN:VCALENDAR
VERSION:2.0
PRODID:-//http://bomi40.eu///NONSGML kigkonsult.se iCalcreator 2.10.15//
METHOD:PUBLISH
BEGIN:VEVENT
UID:20260419T193001CEST-9327cojJXh@http://bomi40.eu/
DTSTAMP:20260419T173001Z
DESCRIPTION:Mit Apps werden über Cloud-Plattformen schlanke IT-Funktionalit
 äten bereitgestellt\, die auch im Produktionsumfeld zum Einsatz kommen kön
 nen. In diesem Technologieseminar erhalten Sie einen Überblick\, wie App-E
 ntwicklung im Produktionsumfeld möglich ist und welche Werkzeuge Sie benöt
 igen\, um selbst Apps zu entwickeln. Sie erfahren anhand einer durchgängig
 en Demonstration auf Basis der Plattform für produktionsnahe IT-Anwendunge
 n\, Virtual Fort Knox\, wie Sie selbst Apps entwickeln und über eine Cloud
 -Plattform bereitstellen.\nThemen:\n\n\nGrundlagen der Anwedngunsentwicklu
 ng\n\n\nTool-Landschaft und Werkzeuge für die Entwicklung\n\n\nMobile Lösu
 ngen in der Industrie 4.0 und deren Potentiale\n\n\nService-Architekturen 
 und Cloud-Technologien\n\n\nBeispielhafte Realisierung auf Basis von Virtu
 al Fort Knox\n\n\nQualifikationsziel\nDie Teilnehmer lernen theoretisch un
 d praktisch\, wie sie Apps für das Industrie-4.0-Umfeld entwickeln und in 
 der Cloud bereitstellen.\n&nbsp\;\nZielgruppe\nFachkräfte\, Projektleiter 
 und IT-Verantwortliche\, die Industrie-4.0-Konzepte entwickeln oder techni
 cht umsetzten.\nIn Kooperation mit:\n\nWeitere Informationen zur Veranstal
 tung finden Sie auf der Website der Veranstalter... http://bomi40.eu/de/se
 rvice-kompetenz/veranstaltungen/ort/event/1669-industrie-4-0-app-entwicklu
 ng
DTSTART;VALUE=DATE:20191120
LOCATION:Frauenhofer-Institutszentrum Stuttgart (Turm 3\, Nobelstraße 12\, 
 70569 Stuttgart\, Deutschland)
SUMMARY:Industrie 4.0 - App-Entwicklung
URL:http://bomi40.eu/de/service-kompetenz/veranstaltungen/ort/event/1669-in
 dustrie-4-0-app-entwicklung
END:VEVENT
END:VCALENDAR
