BEGIN:VCALENDAR
VERSION:2.0
PRODID:-//http://bomi40.eu///NONSGML kigkonsult.se iCalcreator 2.10.15//
METHOD:PUBLISH
BEGIN:VEVENT
UID:20260419T192948CEST-41231FiV0G@http://bomi40.eu/
DTSTAMP:20260419T172948Z
DESCRIPTION:Kunden mit Daten verstehen\, einen Maschinenausfall hervorsagen
 \, Prozesse intelligent steuern und Muster von Ineffizienzen aufdecken – K
 ünstliche Intelligenz (KI) hält Einzug in die Wertschöpfung. Künftig hat d
 en Wettbewerbsvorteil\, wer das Können von Mensch und Maschine besser verb
 inden kann. Start-Ups sind Vorreiter bei der Lösung industrieller Herausfo
 rderungen mittels KI – gemeinsam mit Industrieunternehmen werden industrie
 lle KI-Anwendungen auf den Markt gebracht.\nSTART-UP YOUR AI bringt Anwend
 ungsfälle und ihre Projektpartner gemeinsam auf die Bühne. Start-Up und In
 dustriepartner berichten über die Erfolgsfaktoren der technischen Realisie
 rung sowie der Gestaltung der Zusammenarbeit. Am 27. November sammeln die 
 Teilnehmer wichtige Erfahrungen\, um die Potenziale von KI für sich zu nut
 zen.\nThemen der Konferenz\n–&nbsp\; Aktuelle KI-Lösungen und Bedarfe der 
 Industrie\n–&nbsp\; Erfolgsfaktoren für die Realisierung von KI-Projekten 
 und die Gestaltung der Kooperation\nZiel der Konferenz\n–&nbsp\;Teilnehmer
  und Referenten kennen die Potentiale von KI in der Industrie und können d
 eren Wert beurteilen\n–&nbsp\;Die technischen\, organisatorischen und wirt
 schaftlichen Erfolgsfaktoren von kooperativen KI-Umsetzungsprojekten sind 
 in der Diskussion erschlossen\n–&nbsp\;Netzwerke und Partnerschaften sind 
 entstanden\nZielgruppe\n–&nbsp\;KI-Start-Ups mit B2B-Fokus\n–&nbsp\;Junge 
 Unternehmen und Industrieunternehmen\, welche die Potenziale Künstlicher I
 ntelligenz erschließen möchten\nVeranstalter\nVerein zur Förderung produkt
 ionstechnischer Forschung e. V. (FpF)\nWeitere Informationen zur Veranstal
 tung und die Möglichkeit zur Anmeldung finden Sie auf der Website der Vera
 nstalter... http://bomi40.eu/de/service-kompetenz/veranstaltungen/ort/even
 t/1672-start-up-your-ai
DTSTART;VALUE=DATE:20191127
LOCATION:Frauenhofer IPA (Turm 3\, Nobelstraße 12\, 70569 Stuttgart\, Deuts
 chland)
SUMMARY:START-UP YOUR AI
URL:http://bomi40.eu/de/service-kompetenz/veranstaltungen/ort/event/1672-st
 art-up-your-ai
END:VEVENT
END:VCALENDAR
