BEGIN:VCALENDAR
VERSION:2.0
PRODID:-//http://bomi40.eu///NONSGML kigkonsult.se iCalcreator 2.10.15//
METHOD:PUBLISH
BEGIN:VEVENT
UID:20260419T195109CEST-1930JmFvUG@http://bomi40.eu/
DTSTAMP:20260419T175109Z
DESCRIPTION:Die HSR führt 2018 bis 2023 den Forschungs- und Entwicklungspla
 n (FEPL) «Zukunftslandschaft Schweiz» durch. An der Tagung erhalten Sie sp
 annende Einblicke in die Zwischenergebnisse der laufenden Forschungsprojek
 te und gehen gemeinsam mit den Projektleitenden sich daraus ergebenden akt
 uellen Fragen nach.\nZukunftslandschaft Schweiz – Ergebnisse des Reallabor
 s\n\nWie sehen gute Lösungen der Biodiversitätsförderung im Siedlungsraum 
 aus?\nWelche Auswirkungen hat die Digitalisierung auf die Raum-\, Landscha
 ftsplanung und die Gemeinden?\nWarum wird mit dem Klimawandel das Thema Si
 edlungswasser immer wichtiger?\nWohin geht die künftige Erholungsnutzung i
 n der Schweiz?\n\nDie FEPl-Tagung 2019 wird durch ein Grundsatzreferat von
  Barbara Zibell eröffnet. Danach erhalten die Teilnehmenden Einblick in di
 e Zwischenergebnisse der laufenden Forschungsprojekte und gehen gemeinsam 
 mit den Projektleitenden sich daraus ergebenden aktuellen Fragen nach:\n\n
 Wie kann eine integrative Freiraumplanung gelingen und dabei Biodiversität
 sförderung und Klimaanpassung integrieren?\nWas kommt mit der Digitalisier
 ung in der Raum- und Landschaftsplanung auf die Gemeinden zu?\nWie sehen d
 ie zukünftigen Ansprüche der Naherholungssuchenden bezüglich Raum und Land
 schaft aus?\nWas sind die Chancen und Herausforderungen beim Rückhalt vo
 n Regenwasser in den Siedlungen?\nWelche Möglichkeiten bestehen mit dem E
 insatz von selbstfahrenden Bussen?Im Rahmen der Tagung besteht die Möglich
 keit\, die Ergebnisse des FEPl vertieft zu diskutieren.\n\nWeitere Informa
 tionen zur Veranstaltung sowie die Möglichkeit zur Anmeldung finden Sie hi
 er. http://bomi40.eu/de/service-kompetenz/veranstaltungen/ort/event/1679-f
 epl-tagung-2019-zukunftslandschaft-schweiz
DTSTART;VALUE=DATE:20191018
LOCATION:HSR Hochschule für Technik Rapperswil (Oberseestrasse 10\, 8640 Ra
 pperswil-Jona\, Schweiz)
SUMMARY:FEPL-Tagung 2019: Zukunftslandschaft Schweiz
URL:http://bomi40.eu/de/service-kompetenz/veranstaltungen/ort/event/1679-fe
 pl-tagung-2019-zukunftslandschaft-schweiz
END:VEVENT
END:VCALENDAR
