BEGIN:VCALENDAR
VERSION:2.0
PRODID:-//http://bomi40.eu///NONSGML kigkonsult.se iCalcreator 2.10.15//
METHOD:PUBLISH
BEGIN:VEVENT
UID:20260419T194941CEST-35659jAkpG@http://bomi40.eu/
DTSTAMP:20260419T174941Z
DESCRIPTION:Welche Auswirkungen hat die digitale Transformation auf das Ber
 ufsleben von Frauen? Gibt es Unterschiede zu den Folgen für Männer? Sind F
 rauen im Vorteil\, weil bei den neuen Arbeitsformen Softskills gefordert s
 ind? Oder steigt der Lohnunterschied zwischen Männern und Frauen durch die
  Digitalisierung noch weiter an? Bringt die Flexibilisierung durch die neu
 en Medien mehr Freiräume und eine bessere Vereinbarkeit von Familie und Be
 ruf? Oder wird die Grenze zwischen Arbeits- und Privatleben immer mehr ver
 schwimmen und die Arbeitsbelastung für Frauen steigen? Sind typische „Frau
 en-Berufen“ besonders von der Wegrationalisierung betroffen? Welche neuen 
 Berufszweige werden sich entwickeln und welche Weiterbildungen sind dafür 
 erforderlich? Was bedeuten diese Auswirkungen für Unternehmen\, Gesellscha
 ft und die Region Allgäu?\nDie „Servicestelle Frau & Beruf“ lädt in Kooper
 ation mit Allgäu Digital&nbsp\;zu diesem spannenden Fachtag mit Expertinne
 n aus Politik\, Wirtschaft und Forschung und einer Keynote der Bayerischen
  Arbeitsstaatsekretärin Carolina Trautner.\nVeranstalter und Partner Die S
 ervicestelle Frau & Beruf wird getragen durch die Stadt Kempten\, den Land
 kreis Oberallgäu und den Landkreis Ostallgäu und gefördert durch den Europ
 äischen Sozialfonds und das Bayerische Staatsministerium für Familie\, Arb
 eit und Soziales. Die Veranstaltung „Frau. Beruf. Digitalisierung“ erfolgt
  zudem in Kooperation mit der Agentur für Arbeit und Allgäu Digital - Digi
 tales Zentrum Schwaben (DZ.S).\nTeilnahme und AnmeldungDie Teilnahme ist k
 ostenlos. Eine Anmeldung ist aufgrund begrenzter Plätze erforderlich.\nWei
 tere Informationen zum Programm sowie die Möglichkeit zur Anmeldung finden
  Sie auf der Website der Veranstalter... http://bomi40.eu/de/service-kompe
 tenz/veranstaltungen/ort/event/1683-frau-beruf-digitalisierung
DTSTART;VALUE=DATE:20191030
LOCATION:Allgäu Digital - Digitales Zentrum Schwaben (Keselstraße 16\, 8743
 5 Kempten (Allgäu)\, Deutschland)
SUMMARY:Frau. Beruf. Digitalisierung.
URL:http://bomi40.eu/de/service-kompetenz/veranstaltungen/ort/event/1683-fr
 au-beruf-digitalisierung
END:VEVENT
END:VCALENDAR
