BEGIN:VCALENDAR
VERSION:2.0
PRODID:-//http://bomi40.eu///NONSGML kigkonsult.se iCalcreator 2.10.15//
METHOD:PUBLISH
BEGIN:VEVENT
UID:20260419T203342CEST-7947vAougV@http://bomi40.eu/
DTSTAMP:20260419T183342Z
DESCRIPTION:Die Teilnehmer/innen erhalten einen Einstieg in das Thema Verka
 ufs- und Vermarktungsprozesse auf sogenannten digitalen Vermarktungsplattf
 ormen.\n\n\n\nSeminarinhalte\n\nAufbau von digitalen Verkaufs- und Vermark
 tungsprozessen - auch im Hinblick auf soziale Medien\nPotenziale und Aufwa
 nd\nVorstellung von Praxisbeispielen für digitale Vermarktungsplattformen
 \nTrends und Zukunftsvisionen\n\nHinweis: Im Seminar werden u. a. auch soz
 iale Medien als Plattformen behandelt\; für soziale Medien selbst gibt es 
 für Interessierte auch ein gesondertes Grundlagen und Aufbau-Seminar (sieh
 e Social Media in der Direktvermarktung).\nBeginn: 13:00 UhrDauer: 2 Stund
 en\nDie Veranstaltung ist kostenpflichtig.\nWeitere Informationen zu der V
 eranstaltung finden Sie auf der Website der Veranstalter...\n\n http://bom
 i40.eu/de/service-kompetenz/veranstaltungen/ort/event/1692-direktvermarktu
 ng-auf-digitalen-plattformen
DTSTART;VALUE=DATE:20191210
LOCATION:Allgäu Digital - Digitales Zentrum Schwaben (Keselstraße 16\, 8743
 5 Kempten (Allgäu)\, Deutschland)
SUMMARY: Direktvermarktung auf digitalen Plattformen
URL:http://bomi40.eu/de/service-kompetenz/veranstaltungen/ort/event/1692-di
 rektvermarktung-auf-digitalen-plattformen
END:VEVENT
END:VCALENDAR
