BEGIN:VCALENDAR
VERSION:2.0
PRODID:-//http://bomi40.eu///NONSGML kigkonsult.se iCalcreator 2.10.15//
METHOD:PUBLISH
BEGIN:VEVENT
UID:20260419T192803CEST-8451J40mbe@http://bomi40.eu/
DTSTAMP:20260419T172803Z
DESCRIPTION:Zielsetzung:\nUnser Arbeitsplatz befindet sich im Umbruch. Durc
 h Globalisierung und Digitalisierung formt sich eine ganz neue Arbeitsorga
 nisation\, die dezentraler\, mobiler\, flexibler und immer selbstständiger
  wird. Immer mehr Mitarbeiter organisieren sich selbst im Home Office und 
 schon lange müssen Teams nicht mehr an einem Ort sein\, um effektiv zusamm
 enzuarbeiten. In diesem Seminar lernen Sie\, wie Sie sich im Wohnzimmer ef
 fektiv organisieren können\, wie Sie dezentrale und internationale Teams g
 ekonnt führen und welche digitalen Mittel Sie dabei unterstützen.\nInhalt:
 \n\nArbeitsplatz 4.0\nAktueller und zukünftiger Trend\nSelbstständiger und
  eigenverantwortlicher arbeiten\nInternational und dezentral arbeiten\nSeg
 en und Fluch des digitalen Arbeitens\n\nDie Veranstaltung ist kostenpflich
 tig\, eine Anmeldung ist erforderlich.\nWeitere Informationen zu der Veran
 staltung und Anmeldung finden Sie auf der Webseite der IHK Bodensee- Obers
 chwaben... http://bomi40.eu/de/service-kompetenz/veranstaltungen/ort/event
 /1698-virtual-office
DTSTART;VALUE=DATE:20200211
LOCATION:IHK Bodensee-Oberschwaben (Lindenstraße 2\, 88250 Weingarten\, Deu
 tschland)
SUMMARY:Virtual Office
URL:http://bomi40.eu/de/service-kompetenz/veranstaltungen/ort/event/1698-vi
 rtual-office
END:VEVENT
END:VCALENDAR
