BEGIN:VCALENDAR
VERSION:2.0
PRODID:-//http://bomi40.eu///NONSGML kigkonsult.se iCalcreator 2.10.15//
METHOD:PUBLISH
BEGIN:VEVENT
UID:20260419T202622CEST-38980k91aT@http://bomi40.eu/
DTSTAMP:20260419T182622Z
DESCRIPTION:Die Digitalisierung ist nicht zu stoppen. Prozesse ändern sich\
 , neue Geschäftsmodelle wie Share Economy entstehen und auch die Bedürfnis
 se der Menschen verändern sich. Die Komplexität steigt\, aber die Planbark
 eit wird geringer. Entscheidend wird deshalb in Zukunft die Agilität\, das
  heißt die Reaktionsfähigkeit und Reaktionsgeschwindigkeit Ihrer Organisat
 ion. - 'Schnell ist das neue Groß.'\nDenken Sie darüber nach\, wie Sie Ihr
 e Organisation reaktionsfähiger machen können? Suchen Sie nach Wegen\, den
  Nutzen für Ihre Kunden ständig zu maximieren? Möchten Sie Ihre Mitarbeite
 r ermächtigen und ihnen Verantwortung abgeben?\nErfahren Sie in diesem Sem
 inar\, wie Sie Ihre Organisation dynamikrobust gestalten. Verstehen Sie di
 e zugrunde liegenden Prinzipien von Agilität und Lean. Erleben Sie die Dyn
 amik und Verantwortung von Agil & Lean Teams. Und\, lernen Sie die klaren 
 Begriffe der Agil & Lean Sprache kennen.\nInhalt:Change Management und Cha
 nge-Prozesse \n\nTheorie Y und das Ende des Taylorismus\nErmächtigung und 
 Selbstorganisation von Teams\nPriorisierung und schneller Nutzen für den K
 unden\nEinfachheit und Anschaulichkeit - der 'Gang zum Gemba'\nTransparenz
  und Takt\n\nMusterbaukasten erprobter Techniken \n\nNeue Verantwortung un
 d Rollen im Team\nPrinzip PDIA\nScrum (z. B. Entwicklungsteams)\nKanban (z
 . B. Dienstleistungsteams)\nAnpassung\, Abgrenzung und Emergenz\n\nDie 'Ag
 il & Lean Sprache'\n\nProduct Owner und Agility Master\nBacklog\, Sprint u
 nd Daily Scrum\nUser Story\, Planning Poker u. a.\n\nWeitere Informationen
  zur Veranstaltung sowie die Möglichkeit zur Anmeldung finden Sie hier. ht
 tp://bomi40.eu/de/service-kompetenz/veranstaltungen/ort/event/1699-teamarb
 eit-in-einer-digitalen-welt
DTSTART;VALUE=DATE:20200527
LOCATION:IHK Bodensee-Oberschwaben (Lindenstraße 2\, 88250 Weingarten\, Deu
 tschland)
SUMMARY:Teamarbeit in einer digitalen Welt
URL:http://bomi40.eu/de/service-kompetenz/veranstaltungen/ort/event/1699-te
 amarbeit-in-einer-digitalen-welt
END:VEVENT
END:VCALENDAR
