BEGIN:VCALENDAR
VERSION:2.0
PRODID:-//http://bomi40.eu///NONSGML kigkonsult.se iCalcreator 2.10.15//
METHOD:PUBLISH
BEGIN:VEVENT
UID:20260419T191118CEST-5840OMhFx5@http://bomi40.eu/
DTSTAMP:20260419T171118Z
DESCRIPTION:Gestalte die Zukunft – zur Mitmach-Konferenz in Lindau sind all
 e eingeladen!\nDie vom IBK-Kleinprojektefonds im Jahr 2017 geförderte Vern
 etzung der Initiativen für Nachhaltigkeit in der Bodenseeregion trägt weit
 er Früchte: Vom 2.-3. November 2019 findet in der Inselhalle Lindau eine M
 itmach-Konferenz für eine zukunftsweisende\, lebenswerte\, enkeltaugliche 
 und innovative Region statt. Eingeladen sind Bürger und Bürgerinnen\, Vere
 ine\, Verbände sowie Akteure aus Wirtschaft und Politik. Ein Impulsvortrag
  am 1. November und die Verbrauchermesse Heldenmarkt spannen den Bogen zum
  nachhaltigen Wirtschaften. Veranstalter ist der Verein wirundjetzt e.V.„M
 itmachen und Mitgestalten mit Blick auf das Gemeinwohl lohnt sich – auch f
 ür die ganze Region. Die Mitmachkonferenz hilft dazu\, die 17 Ziele der Ve
 reinten Nationen für eine nachhaltige Entwicklung auch rund um den Bodense
 e mit Leben zu füllen und engagierte Personen zusammenzubringen“\, so Klau
 s-Dieter Schnell\, Geschäftsführer der Internationalen Bodensee-Konferenz 
 (IBK). „Wir freuen uns\, dass die von uns bereits im Jahr 2017 geförderte 
 Vernetzung der Initiativen und die im Projekt kreierte Broschüre Gestalte 
 die Zukunft nun so gut Früchte tragen.“\nPlattform für Begegnung\, Austaus
 ch\, IdeenDie Mitmach-Konferenz findet am 2. und 3. November 2019 in der I
 nselhalle Lindau statt. Ab 10 Uhr gibt es ein abwechslungsreiches Programm
  mit Workshops\, Vorträgen und Austausch. Eingeladen sind Akteure und Inte
 ressierte aus Zivilgesellschaft\, Politik und Wirtschaft. Bereits am 1. No
 vember 2019 geht es um 19.30 Uhr im Stadttheater Lindau um das Schwerpunkt
 thema Gemeinwohl-Ökonomie: Der Politikwissenschaftler Christian Felber prä
 sentiert ein alternatives Wirtschaftsmodell mit dem Leitsatz „Kooperation 
 statt Konkurrenz“.\nWeitere Informationen zu der Veranstaltung finden Sie 
 auf der Veranstaltungswebsite... http://bomi40.eu/de/service-kompetenz/ver
 anstaltungen/ort/event/1707-mitmach-konferenz-2019
DTSTART;VALUE=DATE:20191102
LOCATION:Inselhalle Lindau (Zwanzigerstraße 10\, 88131 Lindau (Bodensee)\, 
 Deutschland)
SUMMARY:Mitmach-Konferenz 2019
URL:http://bomi40.eu/de/service-kompetenz/veranstaltungen/ort/event/1707-mi
 tmach-konferenz-2019
END:VEVENT
END:VCALENDAR
