BEGIN:VCALENDAR
VERSION:2.0
PRODID:-//http://bomi40.eu///NONSGML kigkonsult.se iCalcreator 2.10.15//
METHOD:PUBLISH
BEGIN:VEVENT
UID:20260419T204915CEST-6855FUZZ6v@http://bomi40.eu/
DTSTAMP:20260419T184915Z
DESCRIPTION:\nAgile Methoden fokussieren sich häufig auf die kurzfristige P
 lanung von Entwicklungszyklen. Dabei werden meist die nächsten 2 – 4 Woche
 n betrachtet. Für das umsetzende Team reicht dies in der Regel aus und ist
  hilfreich\, um den Fokus zu gewährleisten. Schaut man über die Teamgrenze
  hinaus\, benötigt es zur Koordination mit anderen Teams jedoch eine organ
 isationsübergreifende Abstimmung und einen weiteren Planungshorizont. Das 
 ist mit agilen Vorgehensmodellen nicht möglich? Esentri ist anderer Meinun
 g! Sie gehen sogar noch einen Schritt weiter und beweisen bei Kunden und i
 hrer eigenen Organisation\, dass man mit der richtigen digitalen Kultur un
 d den passenden Methoden mindestens genau so treffsichere\, wenn nicht sog
 ar bessere Vorhersagen machen kann.\n\n\nDieser Workshop ist in erster Lin
 ie für Teams und Personen im agilen Kontext geeignet. Aber auch für Person
 en\, die sich regelmäßig mit Vorhersagen und Planungen beschäftigen und ge
 rne über klassische Ansätze hinaus blicken möchten. Es werden keine Grundl
 agen in dem Umgang mit agilen Methoden vorausgesetzt. Mit ihren Inhalten k
 onnte esentri bereits den unterschiedlichsten Personen neue Impulse für ih
 re tägliche Arbeit geben.\nAm Ende des Tages haben Sie für folgende Bereic
 he neues Handwerkszeug: \n\nWelche Werte und Prinzipien agiler Planung zug
 runde liegen\nWelche Methoden und Werkzeuge eine kurzfristige und langfris
 tige agile Planung ermöglichen\nWie Sie in eine Zukunft mit effizienteren 
 und realistischeren Planung für ein oder mehreren Teams starten können\n\n
 Weitere Informationen zur Veranstaltung und die Möglichkeit zur Anmeldung 
 finden Sie hier.\n http://bomi40.eu/de/service-kompetenz/veranstaltungen/o
 rt/event/1717-workshop-event-esentri-eintauchen-in-die-digitale-unternehme
 nskultur
DTSTART;VALUE=DATE:20191128
LOCATION:Technopark Vaduz (Schaanerstrasse 23\, 9490 Vaduz\, Liechtenstein)
SUMMARY:Workshop-Event esentri: Eintauchen in die digitale Unternehmenskult
 ur
URL:http://bomi40.eu/de/service-kompetenz/veranstaltungen/ort/event/1717-wo
 rkshop-event-esentri-eintauchen-in-die-digitale-unternehmenskultur
END:VEVENT
END:VCALENDAR
