BEGIN:VCALENDAR
VERSION:2.0
PRODID:-//http://bomi40.eu///NONSGML kigkonsult.se iCalcreator 2.10.15//
METHOD:PUBLISH
BEGIN:VEVENT
UID:20260419T202426CEST-8353spOG6M@http://bomi40.eu/
DTSTAMP:20260419T182426Z
DESCRIPTION:\nDas 20-jährige Jubiläum will das Thurgauer Technologieforum m
 it einem Spezialprogramm begehen.\nUnter dem Titel 'Zukunft des Thurgaus a
 ls Werkplatz und Dienstleistungs-standort' wird bewusst ein weiter Bogen v
 on der Innovationspolitik bis hin zu konkreten Beispielen aus der Thurgaue
 r Wirtschaft gespannt. Im umfangreichen Referatsprogramm wird unter andere
 m auf die nationale Forschungsförderung oder die Leistungen der Hochschule
 n für die Innovationsfähigkeit von Thurgauer Firmen eingegangen. Zudem sol
 len Vertreterinnen und Vertreter von Thurgauer Unternehmen aus verschieden
 en Branchen exemplarisch aufzeigen\, wie sie Innovation in ihren Betrieben
  fördern und dadurch auf dem Weltmarkt bestehen können.\nFester Bestandtei
 l wird auch die Ausstellungsmesse sein\, in der Hochschulen\, Institute\, 
 Forschungseinrichtungen\, Netzwerke und Unternehmen mit ihren Ständen vert
 reten sind. Die Messe gibt direkten Einblick in Projekte der angewandten F
 orschung oder in Tätigkeitsfelder von Thurgauer Unternehmen. Zwischen den 
 Referatsblöcken können sich die Teilnehmenden in der Messehalle austausche
 n und networken.\nBitte merken Sie sich das Datum des 20. Technologietages
  bereits vor. Die Anmeldung wird bald möglich sein.\nWeitere Informationen
  zur Veranstaltung finden Sie auf der Website der Veranstalter...\n http:/
 /bomi40.eu/de/service-kompetenz/veranstaltungen/ort/event/1720-20-thurgaue
 r-technologietag
DTSTART;VALUE=DATE:20200320
LOCATION:Thurgau (Thurgau\, Schweiz)
SUMMARY:20. Thurgauer Technologietag
URL:http://bomi40.eu/de/service-kompetenz/veranstaltungen/ort/event/1720-20
 -thurgauer-technologietag
END:VEVENT
END:VCALENDAR
