BEGIN:VCALENDAR
VERSION:2.0
PRODID:-//http://bomi40.eu///NONSGML kigkonsult.se iCalcreator 2.10.15//
METHOD:PUBLISH
BEGIN:VEVENT
UID:20260419T192643CEST-4236TgW49k@http://bomi40.eu/
DTSTAMP:20260419T172643Z
DESCRIPTION:Wissensmanagement ist in aller Munde. Doch welche Wissensmanage
 ment-Methoden werden in Unternehmen konkret eingesetzt? Und in welchen Ber
 eichen ist das überhaupt sinnvoll? Im Kompaktseminar 'Best of ... Wissensm
 anagement' bekommen Sie das Handwerkszeug rund um die Ressource Wissen an 
 die Hand. Sie erhalten Tipps\, welche Methoden für welche Probleme eingese
 tzt werden und welche Werkzeuge sich zur Umsetzung in Ihrem Unternehmen ei
 gnen.\nIm Seminar erfahren Sie\, welche Wissensmanagement-Methoden sich in
  der Praxis bewährt haben und wie Sie sie in Ihrem Unternehmen erfolgreich
  einsetzen.\nSeminarprogramm (Dauer: 10.00 Uhr bis 17.00 Uhr)\nGrundlagen 
 des Wissensmanagements\n\nWas ist „Wissen“?\nWissensarten: Der Unterschied
  zwischen expliziten und impliziten Wissen\nBedeutung des Erfahrungswissen
 s im Unternehmenskontext\nWissensaktivitäten: erwerben - speichern - verte
 ilen - nutzen\nWissensmanagement-Methoden im Überblick\n\nDie Teilnahme is
 t kostenpflichtig.\nWeitere Informationen zur Veranstaltung und die Möglic
 hkeit zur Anmeldung finden Sie auf der Website der Veranstalter... http://
 bomi40.eu/de/service-kompetenz/veranstaltungen/ort/event/1725-best-of-wiss
 ensmanagement-die-erfolgreichsten-methoden-fuer-ihre-unternehmenspraxis
DTSTART;VALUE=DATE:20191203
LOCATION:Stuttgart (Messepiazza 1\, 70629 Leinfelden-Echterdingen\, Deutsch
 land)
SUMMARY:Best of ... Wissensmanagement: Die erfolgreichsten Methoden für Ihr
 e Unternehmenspraxis
URL:http://bomi40.eu/de/service-kompetenz/veranstaltungen/ort/event/1725-be
 st-of-wissensmanagement-die-erfolgreichsten-methoden-fuer-ihre-unternehmen
 spraxis
END:VEVENT
END:VCALENDAR
