BEGIN:VCALENDAR
VERSION:2.0
PRODID:-//http://bomi40.eu///NONSGML kigkonsult.se iCalcreator 2.10.15//
METHOD:PUBLISH
BEGIN:VEVENT
UID:20260419T193129CEST-33847DWJPU@http://bomi40.eu/
DTSTAMP:20260419T173129Z
DESCRIPTION:Grenzen - ausloten\, erweitern\, überschreiten\nAm Tag der Vera
 nstaltung des Wirtschaftsforums Thurgau liegt das ZIel darin sich von Mens
 chen inspirieren zu lassen\, die Grenzen überschritten oder erweitert habe
 n.Neben 'Grenz-Erfahrungen' wird am Wirtschaftsforum Thurgau 2019 durch Da
 niel Kalt\, Chefökonom UBS\, auch wieder einen Ausblick ins Jahr 2020 wage
 n. Prognosen und Einschätzungen von Experten sind es\, die uns helfen\, ri
 chtige Entscheidungen zu treffen und die uns auch Grenzen aufzeigen.\nDas 
 Programm:\n11:30&nbsp\; &nbsp\;&nbsp\;&nbsp\;&nbsp\;&nbsp\;&nbsp\;&nbsp\;&
 nbsp\;&nbsp\;&nbsp\;&nbsp\;&nbsp\;&nbsp\;&nbsp\;&nbsp\;&nbsp\;&nbsp\;&nbsp
 \; Abacus Workshop: Haben Sie Ihre Zeiterfassung im Griff? 12:00 &nbsp\;&n
 bsp\;&nbsp\;&nbsp\;&nbsp\;&nbsp\;&nbsp\;&nbsp\;&nbsp\;&nbsp\;&nbsp\;&nbsp\
 ;&nbsp\;&nbsp\;&nbsp\;&nbsp\;&nbsp\;&nbsp\;&nbsp\; Gemeinsamer Mittagslunc
 h\n13:30&nbsp\;&nbsp\;&nbsp\;&nbsp\;&nbsp\;&nbsp\;&nbsp\;&nbsp\;&nbsp\;&nb
 sp\;&nbsp\;&nbsp\;&nbsp\;&nbsp\;&nbsp\;&nbsp\;&nbsp\;&nbsp\;&nbsp\;&nbsp\;
  Begrüßung durch Hansjörg Brunner\, Nationaltrat/Präsident Thurgauer Gewer
 beverband\n13:40&nbsp\;&nbsp\;&nbsp\;&nbsp\;&nbsp\;&nbsp\;&nbsp\;&nbsp\;&n
 bsp\;&nbsp\;&nbsp\;&nbsp\;&nbsp\;&nbsp\;&nbsp\;&nbsp\;&nbsp\;&nbsp\;&nbsp\
 ;&nbsp\; Auftakt mit Mona Vetsch\n13:50 &nbsp\;&nbsp\;&nbsp\;&nbsp\;&nbsp\
 ;&nbsp\;&nbsp\;&nbsp\;&nbsp\;&nbsp\;&nbsp\;&nbsp\;&nbsp\;&nbsp\;&nbsp\;&nb
 sp\;&nbsp\;&nbsp\;&nbsp\; Outlook 2020 – wo uns Börsen\, Märkte und die Po
 litik 2020 Grenzen setzen\n14:15&nbsp\;&nbsp\;&nbsp\;&nbsp\;&nbsp\;&nbsp\;
 &nbsp\;&nbsp\;&nbsp\;&nbsp\;&nbsp\;&nbsp\;&nbsp\;&nbsp\;&nbsp\;&nbsp\;&nbs
 p\;&nbsp\;&nbsp\;&nbsp\; Blind nach ganz oben – wie ich meine ganz persönl
 ichen Grenzen sprengen kann\n15:00 &nbsp\;&nbsp\;&nbsp\;&nbsp\;&nbsp\;&nbs
 p\;&nbsp\;&nbsp\;&nbsp\;&nbsp\;&nbsp\;&nbsp\;&nbsp\;&nbsp\;&nbsp\;&nbsp\;&
 nbsp\;&nbsp\;&nbsp\; Podiumsdiskussion mit Mona Vetsch: Grenzen in Politik
 \, Wirtschaft\, Gesellschaft – und wie wir sie überwinden\n15:30 &nbsp\;&n
 bsp\;&nbsp\;&nbsp\;&nbsp\;&nbsp\;&nbsp\;&nbsp\;&nbsp\;&nbsp\;&nbsp\;&nbsp\
 ;&nbsp\;&nbsp\;&nbsp\;&nbsp\;&nbsp\;&nbsp\;&nbsp\; Pause\n16:00 &nbsp\;&nb
 sp\;&nbsp\;&nbsp\;&nbsp\;&nbsp\;&nbsp\;&nbsp\;&nbsp\;&nbsp\;&nbsp\;&nbsp\;
 &nbsp\;&nbsp\;&nbsp\;&nbsp\;&nbsp\;&nbsp\;&nbsp\; Schritte im Weltraum – w
 ie die Menschen ihre Grenzen erweitern\n16:40 &nbsp\;&nbsp\;&nbsp\;&nbsp\;
 &nbsp\;&nbsp\;&nbsp\;&nbsp\;&nbsp\;&nbsp\;&nbsp\;&nbsp\;&nbsp\;&nbsp\;&nbs
 p\;&nbsp\;&nbsp\;&nbsp\;&nbsp\; Europa – Schweiz: Chancen und Grenzen eine
 r „Beziehung“\n17:30 &nbsp\;&nbsp\;&nbsp\;&nbsp\;&nbsp\;&nbsp\;&nbsp\;&nbs
 p\;&nbsp\;&nbsp\;&nbsp\;&nbsp\;&nbsp\;&nbsp\;&nbsp\;&nbsp\;&nbsp\;&nbsp\;&
 nbsp\; Verabschiedung durch Christian Neuweiler\, Präsident IHK Thurgau\n1
 7:40 &nbsp\;&nbsp\;&nbsp\;&nbsp\;&nbsp\;&nbsp\;&nbsp\;&nbsp\;&nbsp\;&nbsp\
 ;&nbsp\;&nbsp\;&nbsp\;&nbsp\;&nbsp\;&nbsp\;&nbsp\;&nbsp\;&nbsp\; Thurgauer
  Wirtschafts – Apéro – riche\nAls Entscheidungsträger aus Gewerbe\, Indust
 rie und Politik gewinnen Sie an diesem neuen «Zukunfts-WFT» wertvolle\, di
 rekt umsetzbare Tipps und Ratschläge\, wie Sie sich in Ihren Märkten erfol
 greich behaupten können. Dabei warten hervorragende Referentinnen und Refe
 renten auf Sie.\nWeitere Informationen zur Veranstaltung finden Sie hier. 
 http://bomi40.eu/de/service-kompetenz/veranstaltungen/ort/event/1727-23-wi
 rtschaftsforum-thurgau
DTSTART;VALUE=DATE:20191107
LOCATION:Kongresszentrum Thurgauerhof (Thomas Bornhauserstrasse 10\, 8570 W
 einfelden\, Schweiz)
SUMMARY:23. Wirtschaftsforum Thurgau
URL:http://bomi40.eu/de/service-kompetenz/veranstaltungen/ort/event/1727-23
 -wirtschaftsforum-thurgau
END:VEVENT
END:VCALENDAR
