BEGIN:VCALENDAR
VERSION:2.0
PRODID:-//http://bomi40.eu///NONSGML kigkonsult.se iCalcreator 2.10.15//
METHOD:PUBLISH
BEGIN:VEVENT
UID:20260419T203255CEST-48075pE6ih@http://bomi40.eu/
DTSTAMP:20260419T183255Z
DESCRIPTION:\n\n&nbsp\;\nBei «Zukunft Ostschweiz»\, dem Konjunkturforum der
  IHK St.Gallen-Appenzell und der St.Galler Kantonalbank\, erwarten Sie in 
 der Olma-Halle 2.1 rund 1000 Persönlichkeiten aus Wirtschaft und Politik.
 \n\n\n\n\n\nZweigeteile Konjunktur: Aussen- vs. Binnenwirtschaft\nAufwertu
 ng des Schweizer Frankens\, internationale Handelskonflikte und wirtschaft
 liche Abkühlung in Deutschland – die Unsicherheiten für exportorientierte 
 Unternehmen akzentuieren sich. Gemessen am Auftragsbestand und der Geschäf
 tslage ergibt sich zwar weiterhin ein positives Bild der konjunkturellen L
 age in der Ostschweiz. Die Geschäftserwartungen haben sich aber deutlich e
 ingetrübt. Allen Branchen gemeinsam ist der Kampf gegen den Margendruck. I
 m ersten Teil von «Zukunft Ostschweiz»\, dem gemeinsamen Konjunkturforum v
 on IHK St.Gallen-Appenzell und St.Galler Kantonalbank\, beleuchten wir die
  Konjunkturaussichten mit Prof. Jan-Egbert Sturm\, Peter Eisenhut und mehr
 eren Branchenvertreterinnen und -vertretern.\nVereinbarkeit von Familie un
 d Beruf\nDer zweite Veranstaltungsteil steht ganz im Zeichen der Vereinbar
 keit von Familie und Beruf. Die Bevölkerung altert\, die Finanzierungsprob
 leme für das Sozial- und Gesundheitssystem verschärfen sich. Traditionelle
  Lebensphasen und Rollenbilder verschwinden. Frauen sind ausgezeichnet aus
 gebildet und erobern den Arbeitsmarkt. Jüngere Menschen streben nach Eigen
 ständigkeit\, Selbstverwirklichung und Autonomie. Gleichzeitig intensivier
 t sich der Wettbewerb der Unternehmen um Talente und Fachkräfte. Die Verei
 nbarkeit von Familie und Beruf wird entscheidend. Für die Unternehmen\, fü
 r die Gesellschaft – für uns alle.\nWeitere Informationen zur Veranstaltun
 g und die Möglichkeit zur Anmeldung finden Sie hier.\n\n\n http://bomi40.e
 u/de/service-kompetenz/veranstaltungen/ort/event/1728-zukunft-ostschweiz-2
 019
DTSTART;VALUE=DATE:20191118
LOCATION:Olma Messen St. Gallen (Splügenstrasse 12\, 9008 St. Gallen\, Schw
 eiz)
SUMMARY:Zukunft Ostschweiz 2019
URL:http://bomi40.eu/de/service-kompetenz/veranstaltungen/ort/event/1728-zu
 kunft-ostschweiz-2019
END:VEVENT
END:VCALENDAR
