BEGIN:VCALENDAR
VERSION:2.0
PRODID:-//http://bomi40.eu///NONSGML kigkonsult.se iCalcreator 2.10.15//
METHOD:PUBLISH
BEGIN:VEVENT
UID:20260419T193107CEST-1777f0AJiL@http://bomi40.eu/
DTSTAMP:20260419T173107Z
DESCRIPTION:Industrie 4.0\, IoT\, Digitale Transformation\, Digital Busines
 s Building und Co. – beim wvib-Innovationstag zeigt die Schwarzwald AG jäh
 rlich aufs Neue\, dass sich der industrielle Mittelstand in Sachen Innovat
 ion vor dem Silicon Valley alles andere als verstecken muss.\nDer diesjähr
 ige Innovationstag findet am 19. November 2019 bei dem Vorzeige-Innovator 
 Testo SE & Co. KGaA in Titisee-Neustadt statt. Mit einer ausgewogenen Misc
 hung aus Key-Note-Vorträgen und Best Practice Beispielen aus dem Mittelsta
 nd werden die Teilnehmer mit Ideen und Anregungen für Ihr eigenes Unterneh
 men versorgt. Profitieren Sie dabei von Praxisbeispielen wie von der adida
 s AG\, der edding AG oder der Kübler Group.\nTeilnahmegebühren\nEarly-Bird
 -Gebühr (bis einschl. 30. September 2019): 420\,- €Standardgebühr (ab dem 
 01. Oktober 2019): 480\,- €Enthalten sind alle Getränke sowie Mittagessen 
 und Abschlussimbiss.\nDie Veranstaltung wird im Auftrag des wvib von der w
 vib-Schwarzwald AG durchgeführt\, die auch die Rechnung stellt.\nStornieru
 ng kostenfrei bis zum 12. November 2019.\nWeitere Informationen zur Verans
 taltung finden Sie auf der Website der Veranstalter... http://bomi40.eu/de
 /service-kompetenz/veranstaltungen/ort/event/1731-innovationsmotor-mittels
 tand
DTSTART;VALUE=DATE:20191119
LOCATION:Testo SE & Co. KGaA (Celsiusstraße 2\, 79822 Titisee-Neustadt\, De
 utschland)
SUMMARY:Innovationsmotor Mittelstand
URL:http://bomi40.eu/de/service-kompetenz/veranstaltungen/ort/event/1731-in
 novationsmotor-mittelstand
END:VEVENT
END:VCALENDAR
