BEGIN:VCALENDAR
VERSION:2.0
PRODID:-//http://bomi40.eu///NONSGML kigkonsult.se iCalcreator 2.10.15//
METHOD:PUBLISH
BEGIN:VEVENT
UID:20260419T181922CEST-0491guGJvr@http://bomi40.eu/
DTSTAMP:20260419T161922Z
DESCRIPTION: Künstliche Intelligenz verändert die Arbeitswelt rasant. Theme
 n wie Chatbots\, Digitale Assistenten\, Maschinelles Lernen und Deep Learn
 ing Textverstehen und Bilderkennung werden für Unternehmen eine immer größ
 ere Rolle spielen. Viele Unternehmen fragen sich: Ist der Einsatz von KI f
 ür mein Unternehmen wichtig oder ist KI nur ein kurzzeitiger Trend? Wo sin
 d sinnvolle Einsatzfelder und wie gehe ich vor? Das Fraunhofer IAO vermitt
 elt in einem halbtägigen Seminar Grundlagen zum Einsatz von KI.\nDurch den
  Einsatz von Künstlicher Intelligenz können Prozesse im eigenen Unternehme
 n verbessert werden. Aber wie gelingt der erfolgreiche Weg dorthin? Im Sem
 inar erhalten die Teilnehmenden einen Überblick über die erforderlichen Gr
 undlagen für den Einsatz von KI. Zudem stellen Experten des Fraunhofer IAO
  erfolgversprechende Anwendungen vor und zeigen das typische Vorgehen zur 
 Durchführung eines KI-Projektes auf.\nDie Themen im Überblick:\n\nKurzvors
 tellung: Digital Business am Fraunhofer IAO\nEinführung Künstliche Intelli
 genz: Die wichtigsten Grundlagen zum Einsatz von Künstlicher Intelligenz\n
 Anwendungsbeispiele: Vorstellung erfolgsversprechender Anwendungen\, u.a. 
 aus Vertrieb und Kundenservice\nEigene Anwendungen finden: Relevante Frage
 stellungen zur Identifizierung von nutzbringenden Anwendungsfällen im eige
 nen Unternehmen\nTypische Vorgehensweise für die Durchführung eines KI-Pro
 jektes: Wichtigste Fragestellungen\, wesentliche Schritte und aktuelle Her
 ausforderungen\nMöglichkeiten der Zusammenarbeit mit Fraunhofer IAO\n\n\n
 \nDie Veranstaltung richtet sich an\n\nFach- und Führungskräfte mittelstän
 discher Unternehmen\, die sich mit dem Themenfeld der Künstlichen Intellig
 enz vertraut machen möchten - sowohl aus technischen als auch aus nicht-te
 chnischen Bereichen.\nDie Teilnahme an der Veranstaltung ist kostenlos.\n
 \n\n\nWeitere Information zur Veranstaltung und die Möglichkeit zur Anmeld
 ung finden Sie auf der Website der Veranstalter... http://bomi40.eu/de/ser
 vice-kompetenz/veranstaltungen/ort/event/1734-kuenstliche-intelligenz-was-
 ist-fuer-mich-drin
DTSTART:20191120T080000Z
DTEND:20191120T113000Z
LOCATION:  IAT Universität Stuttgart (Allmandring 35\, 70569 Stuttgart\, De
 utschland)
SUMMARY:Künstliche Intelligenz: Was ist für mich drin?
URL:http://bomi40.eu/de/service-kompetenz/veranstaltungen/ort/event/1734-ku
 enstliche-intelligenz-was-ist-fuer-mich-drin
END:VEVENT
END:VCALENDAR
