BEGIN:VCALENDAR
VERSION:2.0
PRODID:-//http://bomi40.eu///NONSGML kigkonsult.se iCalcreator 2.10.15//
METHOD:PUBLISH
BEGIN:VEVENT
UID:20260419T193452CEST-2816Rlo8mv@http://bomi40.eu/
DTSTAMP:20260419T173452Z
DESCRIPTION:Sie entwickeln technische Produkte für den zuverlässigen Betrie
 b\, sie planen und betreiben Anlagen\, dann kennen Sie die Fragen: Welche 
 Randbedingungen wird das Produkt erleben\, welche hat es schon erlebt? Ist
  etwas Unvorhergesehenes passiert? Falls ja\, warum? Welche Auswirkungen h
 aben die Ereignisse? Was wird noch kommen? Wie und wie lange kann das Prod
 ukt/ die Anlage unter den individuell bereits erlebten und noch zu erwarte
 nden Bedingungen zuverlässig betrieben werden?\nDer Digitale Zwilling ist 
 hierfür ein digitales Modell eines Produktes oder einer Prozesskette\, das
  über Sensoren mit der realen Welt gekoppelt ist und oftmals auch um Mixed
 - oder Extended-Reality (XR) Lösungen für Instandhaltung und Service ergän
 zt wird. Informationen aus dem Betrieb über die tatsächliche Beanspruchung
  sowie Prozess- und Qualitätsdaten werden über Algorithmen: von bewährten 
 Methoden und Normen bis hin zu KI-Systemen\, automatisch analysiert. Das e
 rlaubt aktuelle Diagnosen\, kontinuierliche Vorhersagen und damit auch kon
 krete Handlungshilfen.\nWelche neuen Geschäftsmodelle werden hierdurch erm
 öglicht oder speziell benötigt. Welche Schritte sind im Unternehmen erfolg
 sentscheidend.\nDas Virtual Dimension Center lädt Sie ein sich in interess
 anten Gesprächen mit den Referenten und Teilnehmern aus Forschung und Indu
 strie zu diesem Thema auszutauschen.\nDas&nbsp\;VDC MeetUp “DATENINTEGRIER
 TE SIMULATION: DIGITALER ZWILLING & IOT – Geschäftsmodelle” findet am 29. 
 Oktober 2019 von 14:30-16:30 Uhr statt. Eine Anmeldung ist erforderlich.\n
 Zielgruppe sind Fach- und Führungskräfte aus den Bereichen Business Develo
 pment\, Maschinen- und Anlagenbau\, IoT\, Forschung und Entwicklung\, Prod
 uktion sowie alle an der Digitalisierung von Produkten und Prozessen Inter
 essierten sind zu dieser Veranstaltung eingeladen.\nProgramm:\n14:30 Uhr |
  Eintreffen der TeilnehmendenNetworking\, BegrüßungVDC-TZ St. Georgen\n14:
 45 Uhr&nbsp\;| Vortrag: Sensoren\, Daten und SimulationBernd Folkmer\, Hah
 n-Schickard\, Villingen-SchwenningenFundierte Informationen und Wissen sin
 d die Voraussetzung für gute Entscheidungen. Die notwendigen Daten für Inf
 ormationen über die Betriebsparameter und den örtlichen Zustand von Maschi
 nen und Anlagen werden über Sensoren erfasst. Diese lassen sich heute über
  Modellbildung und Simulation zu sogenannten Softsensoren mit erweiterten 
 Möglichkeiten veredeln.\n15:15 Uhr&nbsp\;| Vortrag: Digitale Zwillinge ben
 ötigen neue Geschäftsmodelle&nbsp\;Teresa Alberts\, ITficient AG\, Aadorf\
 , SchweizBereits seit ein paar Jahren ist der Begriff “digitaler Zwilling”
  in vieler Munde. Unterschiedliche Vorstellungen und unterschiedliche Erwa
 rtungshaltung machen es schwierig\, die Herausforderungen und Chancen dara
 us für das eigene Unternehmen zu erkennen. Können digitale Zwillinge auch 
 für den Mittelstand ein wirtschaftliches Erfolgsmodell werden? Welche Schr
 itte sind notwendig\, um mit solchen Konzepten erfolgreich zu sein? Diese 
 Fragen wollen wir zusammen mit Ihnen diskutieren.\n15:45 Uhr&nbsp\;| Vortr
 ag: Wie der Digitale Zwilling Geschäftsmodell verändert Sebastian Creische
 r\, Contact Software GmbH\, KölnProduktdaten sind das Herzstück moderner I
 oT-Services\, die es erlauben während des Produktentstehungsprozesses welt
 weit anhand von virtuellen Produktmodellen und dem digitalen Zwilling zusa
 mmenzuarbeiten und darüber hinaus auch Prozesse verlässlich auszuführen. D
 abei können weitere IT-Systeme und das Internet of Things (IoT) für durchg
 ängige Geschäftsprozesse zu verbunden werden.\n16:15 Uhr | Networking\, mi
 t Kaffee und kleinem ImbissDemonstratoren und Exponate&nbsp\;Diskussion mi
 t Referenten & Ausstellern\n16:45 Uhr&nbsp\;| Networking und Ausklang\nWei
 tere Informationen zu der Veranstatung und Anmeldung finden Sie auf der We
 bseite des Virtual Dimension Center... http://bomi40.eu/de/service-kompete
 nz/veranstaltungen/ort/event/1738-vdc-tz-meetup-zum-digtalen-wandel-digita
 ler-zwilling-nutzen-und-neue-geschaeftsmodelle-durch-datenintegrierte-simu
 lation
DTSTART;VALUE=DATE:20191121
LOCATION:Technologiezentrum St. Georgen. (Leopoldstraße 1\, 78112 St. Georg
 en\, Deutschland)
SUMMARY:VDC TZ MeetUp zum Digtalen Wandel |  DIGITALER ZWILLING: Nutzen und
  neue Geschäftsmodelle durch Datenintegrierte Simulation
URL:http://bomi40.eu/de/service-kompetenz/veranstaltungen/ort/event/1738-vd
 c-tz-meetup-zum-digtalen-wandel-digitaler-zwilling-nutzen-und-neue-geschae
 ftsmodelle-durch-datenintegrierte-simulation
END:VEVENT
END:VCALENDAR
