BEGIN:VCALENDAR
VERSION:2.0
PRODID:-//http://bomi40.eu///NONSGML kigkonsult.se iCalcreator 2.10.15//
METHOD:PUBLISH
BEGIN:VEVENT
UID:20260419T193818CEST-4054guoFxU@http://bomi40.eu/
DTSTAMP:20260419T173818Z
DESCRIPTION:Künstliche Intelligenz (KI) und maschinelles Lernen (ML) sind d
 as aktuelle Thema des digitalen Wandels.&nbsp\;Die Basis für KI und ML sin
 d Daten. Jedes Unternehmen verfügt aus seinen Produktprozessen und -Anwend
 ungen über eine Vielzahl relevanter Daten. Meist werden diese Daten noch n
 icht vollständig&nbsp\;genutzt\, obwohl alle Unternehmensbereiche vom Eins
 atz künstlicher Intelligenz profitieren können.&nbsp\;\nDieses MeetUp lief
 ert das Grundwissen zu KI und ML\, zeigt Beispiele für Anwendungen auf und
  erläutert die Einsatzmöglichkeiten. In praxisorientierten Use Cases erfah
 ren die Teinehmenden\, wie vorhandene Daten optimal nutzbar gemacht werden
  können.&nbsp\;\nDie Veranstalter präsentieren den Teilnehmenden parallel 
 zum Vortragsprogramm\, Live-Demos mit unterschiedlichen Ansätzen und Best 
 Practice Beispielen.\nZielgruppe\n\nUnternehmer und Entscheider von KMUs m
 it Interesse oder ersten Erfahrungen zum Thema “Künstliche Intelligenz”\nF
 ührungskräfte in der Distribution\, Kommunikation\, Logistik\, Produktion\
 , Service\, …\nBerater im Bereich digitaler Unternehmensstrategie und -ent
 wicklung\nForschende\, Lehrende\, Studierende\n\nDas nächste VDC TZ Meetup
  zum Digitalen Wandel findet am Dienstag\, den 3. Dezember 2019\, von 16.0
 0 – 19.00 Uhr in Kooperation mit der imsimity GmbH\, der Hochschule Furtwa
 ngen University (HFU) und der Hahn-Schickard-Gesellschaft für angewandte F
 orschung statt. Eine Anmeldung ist erforderlich.\nProgramm:\n16:00 Uhr | E
 intreffen der TeilnehmendenBegrüßung & ModerationMartin Zimmermann & Bernd
  Folkmer\, Vorstandsmitglieder Virtual Dimension Center TZ St. Georgen\n16
 :15 Uhr&nbsp\;| Vortrag: Keine Macht den Zombies: Mit KI zu mehr Produktiv
 ität und WerschöpfungProf. Dr. Sebastian Dörn\n16:45 Uhr&nbsp\;| Vortrag: 
 XR Trainingsanwendungen als Datenquellen für Nutzerprofilbildung und Vorhe
 rsage mit Hilfe von Maschinellem LernenProf. Dr. Christoph Reich\n17:15 Uh
 r&nbsp\;| Kaffeepause und kleiner Imbiss | Möglichkeit verschiedene Live-D
 emontrationen digitaler Projekte und Anwendungen kennen zu lernen und selb
 st zu testen.\n17:45 Uhr | Vortrag: Praxisgerechte KI für den Mittelstand:
  Von der Forschung in die AnwendungDr. Daniel Gaida und Marcus Rüb\, KI Fo
 rschungsgruppe der Hahn-Schickard-Gesellschaft für angewandte Forschung e.
 V.\n18:15 Uhr | Vortrag: Schlaue\, selbst lernende Maschinen als Instrumen
 t für Service und WartungPeter Rath\, Leiter Softwareprojektierung\, ++ J.
 G. WEISSER SÖHNE GmbH & Co. KG\n18:45 Uhr&nbsp\;| Abschließender Austausch
  und Diskussion |&nbsp\;Möglichkeit verschiedene Live-Demontration von KI-
 Projekten und Anwendungen kennen zu lernen und selbst zu testen.\nWeitere 
 Informationen zu der Veranstaltung und Anmeldung finden Sie auf der Websit
 e des Virtaul Dimension Center...\n&nbsp\;\n&nbsp\; http://bomi40.eu/de/se
 rvice-kompetenz/veranstaltungen/ort/event/1740-vdc-tz-meetup-zum-digtalen-
 wandel-lernende-kuenstliche-intelligente-systeme-ki-nutzen-fuer-industrie-
 individuum-gesellschaft
DTSTART;VALUE=DATE:20191203
LOCATION:Technologiezentrum St. Georgen. (Leopoldstraße 1\, 78112 St. Georg
 en\, Deutschland)
SUMMARY:VDC TZ MeetUp zum Digtalen Wandel | Lernende\, künstliche intellige
 nte Systeme (KI) - nutzen für Industrie\, Individuum & Gesellschaft
URL:http://bomi40.eu/de/service-kompetenz/veranstaltungen/ort/event/1740-vd
 c-tz-meetup-zum-digtalen-wandel-lernende-kuenstliche-intelligente-systeme-
 ki-nutzen-fuer-industrie-individuum-gesellschaft
END:VEVENT
END:VCALENDAR
