BEGIN:VCALENDAR
VERSION:2.0
PRODID:-//http://bomi40.eu///NONSGML kigkonsult.se iCalcreator 2.10.15//
METHOD:PUBLISH
BEGIN:VEVENT
UID:20260419T191001CEST-8544EImsKO@http://bomi40.eu/
DTSTAMP:20260419T171001Z
DESCRIPTION:Bitzilla ist die Konferenz für Zukunftstechnologien und digital
 e Innovation. Handverlesene Speaker zeigen ihren Blick auf die digitale We
 lt. Digitales selbst erleben\, inspirierter Austausch\, gute Drinks. Bitzi
 lla vernetzt Innovatoren\, Ideengeber und Gestalter von morgen und ist unv
 erzichtbar für jeden\, der sich mit Digitalem beschäftigt. Sei dabei und w
 erde Teil der digitalen Community im Süden.\nFür Startups:&nbsp\;Erzähle v
 on Deiner Idee und sei eins von fünf Startups\, das bei der Bitzilla Confe
 rence vor ausverkauftem Haus und einer namenhaften Expertenjury pitchen da
 rf. Einsendeschluss ist der 27. September 2017.\nIm Anschluss an die Veran
 staltung findet ab 20:45 Uhr die Aftershowparty statt.&nbsp\;\nWeitere Inf
 ormationen zu Programm\, Speakern und Tickets findet Sie auf www.bitzilla.
 de.\nMelden sie sich bis zum 22. September 2017 mit dem Code BITZILLA17 an
  und erhalten Sie 20 Euro (netto) Rabatt auf Ihr Early Bird Ticket. http:/
 /bomi40.eu/de/service-kompetenz/veranstaltungen/ort/event/175-bitzilla-con
 ference-2017-rabatt-bis-22-9
DTSTART:20171013T110000Z
DTEND:20171013T184500Z
LOCATION:Konzerthaus Ravensburg (Wilhelmstraße 13\, 88212 Ravensburg\, Deut
 schland)
SUMMARY:bitzilla conference 2017 - RABATT bis 22.9.
URL:http://bomi40.eu/de/service-kompetenz/veranstaltungen/ort/event/175-bit
 zilla-conference-2017-rabatt-bis-22-9
END:VEVENT
END:VCALENDAR
