BEGIN:VCALENDAR
VERSION:2.0
PRODID:-//http://bomi40.eu///NONSGML kigkonsult.se iCalcreator 2.10.15//
METHOD:PUBLISH
BEGIN:VEVENT
UID:20260419T204849CEST-9932vrikil@http://bomi40.eu/
DTSTAMP:20260419T184849Z
DESCRIPTION:Das FirmenForum Informatik ist eine Fachvortragsreihe\, die akt
 uellen Themen aus der Informatik eine eigene Plattform bietet. Experten au
 s Unternehmen präsentieren aktuelle Fragestellungen aus der Informatik\, W
 irtschaftsinformatik oder Gesundheitsinformatik. Die Besucher/innen haben 
 im Anschluss die Möglichkeit\, mit den Referenten aus der Berufspraxis zu 
 diskutieren und Fragen zu stellen. Das FirmenForum ist kostenlos und für a
 lle Interessenten geöffnet\, eine Anmeldung ist nicht notwendig.\nDigital 
 Workspace und Flow Automation ADLON Intelligent Solutions 20.11.2019\, 17:
 30 Uhr\nZielgruppe\n\nMitglieder der Hochschule (Studierende\, Lehrende\, 
 Mitarbeitende)\nAbsolventen/innen der Fakultät Informatik\nAlle Interessen
 ten\, auch von extern\n\nWeitere Informationen zu der Veranstaltung finden
  Sie auf der Website der HTWG... http://bomi40.eu/de/service-kompetenz/ver
 anstaltungen/ort/event/1750-firmenforum-informatik-digital-workspace-und-f
 low-automation
DTSTART;VALUE=DATE:20191120
LOCATION: ()
SUMMARY:FirmenForum Informatik - Digital Workspace und Flow Automation
URL:http://bomi40.eu/de/service-kompetenz/veranstaltungen/ort/event/1750-fi
 rmenforum-informatik-digital-workspace-und-flow-automation
END:VEVENT
END:VCALENDAR
