BEGIN:VCALENDAR
VERSION:2.0
PRODID:-//http://bomi40.eu///NONSGML kigkonsult.se iCalcreator 2.10.15//
METHOD:PUBLISH
BEGIN:VEVENT
UID:20260419T193351CEST-2066ULJEgI@http://bomi40.eu/
DTSTAMP:20260419T173351Z
DESCRIPTION:Zwei wie Pech & Schwefel!? – Und\, wie kleben Regionalität und 
 Klima zusammen?\n\nDas BBZ Arenenberg\, der Verein ILE-Bodensee (Integrier
 te Ländliche Entwicklung Bodensee) und das Kompetenznetzwerk Ernährungswir
 tschaft laden Sie sehr herzlich zur 8. Internationalen Strohballenarena\, 
 Donnerstag\, 05. Dezember 2019\, Fruchthof Konstanz\, ein.\nDie Land- und 
 Ernährungswirtschaft ist für die gesamte Bodenseeregion von besonderer Bed
 eutung. Die Landwirtschaft prägt sowohl die Wirtschaft wie auch die Landsc
 haft. Neben grossen Verarbeitungsbetrieben schaffen viele kleine Unternehm
 en wie Käsereien\, Metzgereien oder Weinbaubetriebe Arbeitsplätze und mit 
 ihren Produkten einen besonderen Wert für die Region.\nDie Internationale 
 Strohballenarena (www.strohballenarena.info) greift aktuelle Themen der La
 nd- und Ernährungswirtschaft auf und macht diese der Bevölkerung «leicht v
 erdaulich» zugänglich.\nDie 8. Internationale Strohballenarena analysiert 
 mit Experten Chancen und Herausforderungen der regionalen Landwirtschaft i
 n Bezug auf den CO2-Abdruck. Ein besonderes Augenmerk liegt dabei auf den 
 Wirkungen der Lebensmittelproduktion in der Region bzw. weltweit auf den K
 limaschutz. Die aktuelle Diskussion zeigt\, dass Klimaschutz in Verbindung
  mit der Landwirtschaft nicht losgelöst von Umwelt-\, Natur- und Tierschut
 z betrachtet werden kann. Was bedeutet dies für unser Verbraucherverhalten
  und unsere Kulturlandschaft? Diskutieren Sie in der Strohballenarena mit 
 unseren Referierenden.\nProgramm\n16.15 Uhr Besichtigung Fruchthof Konstan
 z\n17.00 Uhr Vorträge\, Diskussion und Apéro\n19.30 Uhr Ende der Veranstal
 tung\nDa die Platzzahl beschränkt ist wird vom Veranstalter um eine verbin
 dliche Anmeldung gebeten. Die Teilnahme ist kostenlos.\nOrganisator und Ve
 ranstalter\n\nWeitere Informationen zu der Veranstaltung finden Sie hier. 
 http://bomi40.eu/de/service-kompetenz/veranstaltungen/ort/event/1765-8-int
 ernationale-strohballenarena
DTSTART;VALUE=DATE:20191205
LOCATION:Fruchthof Konstanz (Horchstraße 8\, 78467 Konstanz\, Deutschland)
SUMMARY:8. Internationale Strohballenarena
URL:http://bomi40.eu/de/service-kompetenz/veranstaltungen/ort/event/1765-8-
 internationale-strohballenarena
END:VEVENT
END:VCALENDAR
